BEGIN:VCALENDAR
VERSION:2.0
PRODID:-//Ultima Online - ECPv5.16.4.1//NONSGML v1.0//EN
CALSCALE:GREGORIAN
METHOD:PUBLISH
X-WR-CALNAME:Ultima Online
X-ORIGINAL-URL:https://uo.com
X-WR-CALDESC:Events for Ultima Online
BEGIN:VTIMEZONE
TZID:America/New_York
BEGIN:DAYLIGHT
TZOFFSETFROM:-0500
TZOFFSETTO:-0400
TZNAME:EDT
DTSTART:20180311T070000
END:DAYLIGHT
BEGIN:STANDARD
TZOFFSETFROM:-0400
TZOFFSETTO:-0500
TZNAME:EST
DTSTART:20181104T060000
END:STANDARD
TZID:America/Los_Angeles
BEGIN:DAYLIGHT
TZOFFSETFROM:-0800
TZOFFSETTO:-0700
TZNAME:PDT
DTSTART:20180311T100000
END:DAYLIGHT
BEGIN:STANDARD
TZOFFSETFROM:-0700
TZOFFSETTO:-0800
TZNAME:PST
DTSTART:20181104T090000
END:STANDARD
TZID:America/Chicago
BEGIN:DAYLIGHT
TZOFFSETFROM:-0600
TZOFFSETTO:-0500
TZNAME:CDT
DTSTART:20180311T080000
END:DAYLIGHT
BEGIN:STANDARD
TZOFFSETFROM:-0500
TZOFFSETTO:-0600
TZNAME:CST
DTSTART:20181104T070000
END:STANDARD
TZID:Asia/Tokyo
BEGIN:STANDARD
TZOFFSETFROM:+0900
TZOFFSETTO:+0900
TZNAME:JST
DTSTART:20180101T000000
END:STANDARD
END:VTIMEZONE
BEGIN:VEVENT
DTSTART;TZID=America/New_York:20180623T170000
DTEND;TZID=America/New_York:20180623T190000
DTSTAMP:20260421T152332
CREATED:20180528T200239Z
LAST-MODIFIED:20180528T200239Z
UID:16682-1529773200-1529780400@uo.com
SUMMARY:Siege - Ladies Night
DESCRIPTION:Siege Perilous has some amazing ladies. They work tirelessly\, whether it’s helping newcomers\, keeping the shard’s trade going\, murdering unsuspecting villagers\, or defending the weak or brainless. They deserve our respect. Some of them demand our respect. Some of them will kill you on sight if you don’t respect them!  it’s all about respect! \nSo\, I am asking all the tavern owners of Siege to help me get them utterly legless. \nThat’s right folks – if you own or run a public tavern\, inn\, or any establishment of ill repute\, I would ask you to drop a bag with the name of your establishment\, and a rune to it\, into my mailbox. Because ladies\, we’re going on a good old-fashioned tavern crawl! (Or pub crawl\, if you prefer!)   If you can lay on some extra entertainment at your place\, then that’s even better! \nAlong the way\, we might meet some opposition. We might encounter some folks who don’t think ladies should be drinking. We might encounter some angry drunks. At this point\, I have no idea who or what we’ll encounter – but it should be fun. \nIf our crafters would like to make some commemorative items\, then so much the better! If individual taverns would like to hand them out\, that’s great! Something like “Ladies Night 2018 : Bob’s Tavern” would make a great inscription! \nSo ladies\, practice your drinking skills! Innkeepers and pub landlords\, prepare to mop up lots of blood! \n  \nOh\, and a small request – could the ladies who won last month’s fashion show please provide me with something? Either a copy of your outfits\, or precise written details of your outfits\, so that I can display them at the reward hall? Thank you very much!
URL:https://uo.com/event/siege-ladies-night/
LOCATION:Siege Perilous
CATEGORIES:EM Event
END:VEVENT
BEGIN:VEVENT
DTSTART;TZID=America/Los_Angeles:20180623T190000
DTEND;TZID=America/Los_Angeles:20180623T200000
DTSTAMP:20260421T152332
CREATED:20180602T052631Z
LAST-MODIFIED:20180602T052631Z
UID:16740-1529780400-1529784000@uo.com
SUMMARY:*Pacific* - Kings Meeting
DESCRIPTION:
URL:https://uo.com/event/pacific-kings-meeting-22/
LOCATION:Castle Blackthorn Courtyard
CATEGORIES:EM Event
END:VEVENT
BEGIN:VEVENT
DTSTART;TZID=America/Chicago:20180623T200000
DTEND;TZID=America/Chicago:20180623T210000
DTSTAMP:20260421T152332
CREATED:20180611T012831Z
LAST-MODIFIED:20180611T012831Z
UID:16833-1529784000-1529787600@uo.com
SUMMARY:Lake Austin - Mysterious Caper
DESCRIPTION:June 23 8PM Central- A Mysterious Caper - Everyone Welcome to Attend.\nTransportation provided from Luna and WBB! Come armed and dangerous!
URL:https://uo.com/event/lake-austin-mysterious-caper/
CATEGORIES:EM Event
END:VEVENT
BEGIN:VEVENT
DTSTART;TZID=Asia/Tokyo:20180623T220000
DTEND;TZID=Asia/Tokyo:20180623T220000
DTSTAMP:20260421T152332
CREATED:20180518T022559Z
LAST-MODIFIED:20180518T022559Z
UID:16607-1529791200-1529791200@uo.com
SUMMARY:Sakura - Event
DESCRIPTION:TBD
URL:https://uo.com/event/sakura-event-13/
LOCATION:Sakura – EM Hall\, Japan
CATEGORIES:EM Event
END:VEVENT
END:VCALENDAR