BEGIN:VCALENDAR
VERSION:2.0
PRODID:-//Ultima Online - ECPv5.16.4.1//NONSGML v1.0//EN
CALSCALE:GREGORIAN
METHOD:PUBLISH
X-WR-CALNAME:Ultima Online
X-ORIGINAL-URL:https://uo.com
X-WR-CALDESC:Events for Ultima Online
BEGIN:VTIMEZONE
TZID:Europe/Berlin
BEGIN:DAYLIGHT
TZOFFSETFROM:+0100
TZOFFSETTO:+0200
TZNAME:CEST
DTSTART:20180325T010000
END:DAYLIGHT
BEGIN:STANDARD
TZOFFSETFROM:+0200
TZOFFSETTO:+0100
TZNAME:CET
DTSTART:20181028T010000
END:STANDARD
TZID:Asia/Tokyo
BEGIN:STANDARD
TZOFFSETFROM:+0900
TZOFFSETTO:+0900
TZNAME:JST
DTSTART:20180101T000000
END:STANDARD
TZID:America/New_York
BEGIN:DAYLIGHT
TZOFFSETFROM:-0500
TZOFFSETTO:-0400
TZNAME:EDT
DTSTART:20180311T070000
END:DAYLIGHT
BEGIN:STANDARD
TZOFFSETFROM:-0400
TZOFFSETTO:-0500
TZNAME:EST
DTSTART:20181104T060000
END:STANDARD
END:VTIMEZONE
BEGIN:VEVENT
DTSTART;TZID=Europe/Berlin:20180624T203000
DTEND;TZID=Europe/Berlin:20180624T213000
DTSTAMP:20260421T152342
CREATED:20180603T141753Z
LAST-MODIFIED:20180603T141753Z
UID:16758-1529872200-1529875800@uo.com
SUMMARY:Drachenfels: Summer Solstice | Sommer Sonnenwende
DESCRIPTION:Time: 8:30pm CEST (UTC+2).  Location: EM Hall\, Britain\, Trammel.\nMain Event: Sun\, fun and… a lot to do! Kalya Sesha has her hands full to carry these weird creatures of the sun back to their ancestral spheres. Will you please help? Please?! \nZeit: 20:30 Uhr CEST (UTC+2). Ort: EM Hall\, Britain\, Trammel.\nHaupt Event: Sonne\, Spaß und… viel zu tun! Kalya Sesha hat alle Hände voll zu tun um diese überdrehten komischen Sonnengeschöpfe wieder in ihre angestammten Sphären zurück zu befördern. Helft ihr bitte mit? Bitte?!
URL:https://uo.com/event/drachenfels-summer-solstice-sommer-sonnenwende/
LOCATION:Drachenfels
CATEGORIES:EM Event
END:VEVENT
BEGIN:VEVENT
DTSTART;TZID=Asia/Tokyo:20180624T220000
DTEND;TZID=Asia/Tokyo:20180624T220000
DTSTAMP:20260421T152342
CREATED:20180518T022812Z
LAST-MODIFIED:20180518T022812Z
UID:16610-1529877600-1529877600@uo.com
SUMMARY:Sakura - The Council Meeting With The King
DESCRIPTION:The monthly governor’s meeting with King Blackthorn. Everyone is invited.
URL:https://uo.com/event/sakura-the-council-meeting-with-the-king-21/
LOCATION:Blackthorn Castle
CATEGORIES:EM Event
END:VEVENT
BEGIN:VEVENT
DTSTART;TZID=Asia/Tokyo:20180624T220000
DTEND;TZID=Asia/Tokyo:20180624T220000
DTSTAMP:20260421T152342
CREATED:20180612T143822Z
LAST-MODIFIED:20180612T144516Z
UID:16848-1529877600-1529877600@uo.com
SUMMARY:Hokuto - The Council Meeting With The King
DESCRIPTION:The monthly governor’s meeting with King Blackthorn. Everyone is invited.
URL:https://uo.com/event/hokuto-the-council-meeting-with-the-king/
CATEGORIES:EM Event
END:VEVENT
BEGIN:VEVENT
DTSTART;TZID=America/New_York:20180624T220000
DTEND;TZID=America/New_York:20180624T230000
DTSTAMP:20260421T152342
CREATED:20180619T023147Z
LAST-MODIFIED:20180619T023147Z
UID:16948-1529877600-1529881200@uo.com
SUMMARY:Sonoma - Governors Meeting - 7PM PDT
DESCRIPTION:Governors Meeting on June 24th @ 7PM PDT!
URL:https://uo.com/event/sonoma-governors-meeting-7pm-pdt/
LOCATION:Sonoma
CATEGORIES:EM Event
END:VEVENT
END:VCALENDAR