BEGIN:VCALENDAR
VERSION:2.0
PRODID:-//Ultima Online - ECPv5.16.4.1//NONSGML v1.0//EN
CALSCALE:GREGORIAN
METHOD:PUBLISH
X-WR-CALNAME:Ultima Online
X-ORIGINAL-URL:https://uo.com
X-WR-CALDESC:Events for Ultima Online
BEGIN:VTIMEZONE
TZID:America/New_York
BEGIN:DAYLIGHT
TZOFFSETFROM:-0500
TZOFFSETTO:-0400
TZNAME:EDT
DTSTART:20180311T070000
END:DAYLIGHT
BEGIN:STANDARD
TZOFFSETFROM:-0400
TZOFFSETTO:-0500
TZNAME:EST
DTSTART:20181104T060000
END:STANDARD
TZID:Asia/Seoul
BEGIN:STANDARD
TZOFFSETFROM:+0900
TZOFFSETTO:+0900
TZNAME:KST
DTSTART:20180101T000000
END:STANDARD
TZID:America/Chicago
BEGIN:DAYLIGHT
TZOFFSETFROM:-0600
TZOFFSETTO:-0500
TZNAME:CDT
DTSTART:20180311T080000
END:DAYLIGHT
BEGIN:STANDARD
TZOFFSETFROM:-0500
TZOFFSETTO:-0600
TZNAME:CST
DTSTART:20181104T070000
END:STANDARD
TZID:Europe/London
BEGIN:DAYLIGHT
TZOFFSETFROM:+0000
TZOFFSETTO:+0100
TZNAME:BST
DTSTART:20180325T010000
END:DAYLIGHT
BEGIN:STANDARD
TZOFFSETFROM:+0100
TZOFFSETTO:+0000
TZNAME:GMT
DTSTART:20181028T010000
END:STANDARD
TZID:Asia/Tokyo
BEGIN:STANDARD
TZOFFSETFROM:+0900
TZOFFSETTO:+0900
TZNAME:JST
DTSTART:20180101T000000
END:STANDARD
END:VTIMEZONE
BEGIN:VEVENT
DTSTART;TZID=America/New_York:20180630T170000
DTEND;TZID=America/New_York:20180630T190000
DTSTAMP:20260421T133611
CREATED:20180528T200258Z
LAST-MODIFIED:20180528T200258Z
UID:16687-1530378000-1530385200@uo.com
SUMMARY:Siege - Light Fingered Orcs
DESCRIPTION:King Blackthorn tossed an ancient tome aside\, and sighed deeply. \n“Are you certain\, detective? There can be no doubt?” \n“None at all\, sire. It is the only way.” \n“Very well then. It falls to a great leader to make the hard decisions. Not a single thief has been seen in our lands in ages\, except for that utter fraud Riccardo. But\, if theft is the only way to bypass this ancient orcish magic\, then see to it that some of our most trustworthy people are educated in its use. It wouldn’t do for this knowledge to fall into the hands of some scoundrel! Our guards wouldn’t know how to cope!” \n“Quite. my liege.” \nAnd so it was that the call went out across the land\, that trainee thieves were needed by his Majesty the King. And\, perhaps due to the shock that the call caused\, or perhaps the people were too true of heart to even consider such an act\, nobody responded. \nWhich was a shame\, because it would have been a good night to be a thief on Siege. The thieves would have been called to gather at the EM Hall\, and shown a gateway to a mysterious place\, where their talents would have enabled them to take the source of the orcish power\, and perhaps keep a memento or two for their troubles. \nStill\, as it has ever been\, as it will ever be\, there are no thieves on Siege.
URL:https://uo.com/event/siege-light-fingered-orcs/
LOCATION:Siege Perilous
CATEGORIES:EM Event
END:VEVENT
BEGIN:VEVENT
DTSTART;TZID=Asia/Seoul:20180630T200000
DTEND;TZID=Asia/Seoul:20180630T210000
DTSTAMP:20260421T133611
CREATED:20180530T114426Z
LAST-MODIFIED:20180530T114426Z
UID:16714-1530388800-1530392400@uo.com
SUMMARY:Arirang - 2018 Archery Tournament
DESCRIPTION:Event Schedule \nDate/Time: June 30th\, 2018 08:00PM KST \nMeeting Place: Britain EM Hall \nCaution! \nThis is non-reward event\, but the season competition event. \nAs this is competition event\, there will be no combat and no reward. However\, name of 3 players who won the competition will be engraved in special object and decorated in Reward Hall. \nDuring this event\, ordinary bow will be used and all equipments should be undressed except no magical property clothing for fairness. If EM finds out any cheat or violation of these rules will be dropped out. And if there’s anyone who intended to disturb the event can be subject of account penalties. \nAccording to number of participants\, tournament can be individual or group tournament. If the number of participants is mismatched\, all participants roll the dice and the one who gets highest number will win by default. Each competitor fires 10 rounds each and total points will decide win or lose. \nWarning \nIf anyone disrupt the event\, spamming\, insulting\, and harassing others or EM\, event will be stopped until the situation is handled. Please be advice that any inappropriate behavior will noted to your account\, and some of them can be fatal. EM will trying to hear your suggestion\, complain\, question\, and feedback willingly. Even though EM willing to hear and deal with the issue\, please note that there are some things that EM cannot deal with. \nEvent Chat Channel \nDuring the event\, we’ll use “Arirang EM Event” chat channel. To communicate with EM\, it is highly recommended to join the channel. EM will not take any responsibility for any penalties of information because of this.
URL:https://uo.com/event/arirang-2018-archery-tournament/
LOCATION:Arirang
CATEGORIES:EM Event
END:VEVENT
BEGIN:VEVENT
DTSTART;TZID=America/Chicago:20180630T200000
DTEND;TZID=America/Chicago:20180630T200000
DTSTAMP:20260421T133611
CREATED:20180604T005754Z
LAST-MODIFIED:20180604T005754Z
UID:16772-1530388800-1530388800@uo.com
SUMMARY:Great Lakes - [Trammel] Festival of Masks
DESCRIPTION:A different facet for the ninth year of the annual festival.
URL:https://uo.com/event/great-lakes-trammel-festival-of-masks-2/
LOCATION:Great Lakes – Counselor Hall
CATEGORIES:EM Event
END:VEVENT
BEGIN:VEVENT
DTSTART;TZID=America/Chicago:20180630T200000
DTEND;TZID=America/Chicago:20180630T210000
DTSTAMP:20260421T133611
CREATED:20180611T012957Z
LAST-MODIFIED:20180611T012957Z
UID:16835-1530388800-1530392400@uo.com
SUMMARY:Lake Austin - A King's Call
DESCRIPTION:June 30 8PM Central- A Kings Calling - You are cordially invited to an\nevent at the King's Castle!
URL:https://uo.com/event/lake-austin-a-kings-call/
CATEGORIES:EM Event
END:VEVENT
BEGIN:VEVENT
DTSTART;TZID=Europe/London:20180630T203000
DTEND;TZID=Europe/London:20180630T213000
DTSTAMP:20260421T133611
CREATED:20180606T182202Z
LAST-MODIFIED:20180606T182229Z
UID:16800-1530390600-1530394200@uo.com
SUMMARY:Europa - The Golden Man VI: Compassion for Evil
DESCRIPTION:Gather at 8.30 pm Uk time zone at EM Hall
URL:https://uo.com/event/europa-the-golden-man-vi-compassion-for-evil/
CATEGORIES:EM Event
END:VEVENT
BEGIN:VEVENT
DTSTART;TZID=Asia/Tokyo:20180630T220000
DTEND;TZID=Asia/Tokyo:20180630T220000
DTSTAMP:20260421T133611
CREATED:20180612T143920Z
LAST-MODIFIED:20180612T144019Z
UID:16850-1530396000-1530396000@uo.com
SUMMARY:Mizuho - The Council Meeting With The King
DESCRIPTION:The monthly governor’s meeting with King Blackthorn. Everyone is invited.
URL:https://uo.com/event/mizuho-the-council-meeting-with-the-king-21/
CATEGORIES:EM Event
END:VEVENT
BEGIN:VEVENT
DTSTART;TZID=Asia/Seoul:20180630T220000
DTEND;TZID=Asia/Seoul:20180630T230000
DTSTAMP:20260421T133611
CREATED:20180623T161718Z
LAST-MODIFIED:20180623T161718Z
UID:17027-1530396000-1530399600@uo.com
SUMMARY:Balhae Secret Garden
DESCRIPTION:Moongate Provided at Luna Bank to Britain EM Hall.
URL:https://uo.com/event/balhae-secret-garden/
LOCATION:Balhae EM Britain Hall
CATEGORIES:EM Event
END:VEVENT
BEGIN:VEVENT
DTSTART;TZID=America/New_York:20180630T233000
DTEND;TZID=America/New_York:20180630T233000
DTSTAMP:20260421T133611
CREATED:20180528T200153Z
LAST-MODIFIED:20180528T200153Z
UID:16670-1530401400-1530401400@uo.com
SUMMARY:Siege - June's Fishing Contest
DESCRIPTION:Fishermen and women of Sosaria! You may want to wear 70 fire resist for this one! The prize catch of the month is the Fire Fish! \nFound steaming through the waters of Shame\, this tasty little morsel is said to be capable of cooking itself\, when tempted with the right sort of bait! I suggest sulphuric ash\, or perhaps the scales of a dragon. \nSo\, go and see how big they grow! Go and cast your lines in the waters of Shame! And pay no heed to the legends of the most evil of PKs who live down there – there’s no substance to them. Just tales to scare children at night. \n \nDeposit your catch in the EM’s mailbox before the end of June for a chance to win! \nALSO!!!!  We began the fishing contest in July last year. So\, this month marks the end of a full year. At the end of June\, I will announce the winner of the Biggest Fish competition for 2018. The winner will have their fish displayed at the reward hall.
URL:https://uo.com/event/siege-junes-fishing-contest/
LOCATION:Siege Perilous
CATEGORIES:EM Event
END:VEVENT
END:VCALENDAR