BEGIN:VCALENDAR
VERSION:2.0
PRODID:-//Ultima Online - ECPv5.16.4.1//NONSGML v1.0//EN
CALSCALE:GREGORIAN
METHOD:PUBLISH
X-WR-CALNAME:Ultima Online
X-ORIGINAL-URL:https://uo.com
X-WR-CALDESC:Events for Ultima Online
BEGIN:VTIMEZONE
TZID:America/New_York
BEGIN:DAYLIGHT
TZOFFSETFROM:-0500
TZOFFSETTO:-0400
TZNAME:EDT
DTSTART:20180311T070000
END:DAYLIGHT
BEGIN:STANDARD
TZOFFSETFROM:-0400
TZOFFSETTO:-0500
TZNAME:EST
DTSTART:20181104T060000
END:STANDARD
END:VTIMEZONE
BEGIN:VEVENT
DTSTART;VALUE=DATE:20180704
DTEND;VALUE=DATE:20180705
DTSTAMP:20260421T133604
CREATED:20180703T183153Z
LAST-MODIFIED:20180703T183153Z
UID:17113-1530662400-1530748799@uo.com
SUMMARY:Siege - Independent Orcs
DESCRIPTION:So\, you’re probably sick of orcs by now\, aren’t you? \nWell\, too bad. Some more have popped up\, and declared their independence from elves\, humans and gargoyles.  Exactly how they came to feel a lack of independence\, or how you were suppressing them\, nobody knows. Most people felt they were already free\, if in dire need of a bath. But\, they want to break free. Of something. \nAs a result\, they might pop up near you. Or they might not. \nI suggest you be on your guard. Orcs are unpredictable. \nHappy July 4th!
URL:https://uo.com/event/siege-independent-orcs/
LOCATION:Siege Perilous
CATEGORIES:EM Event
END:VEVENT
END:VCALENDAR