BEGIN:VCALENDAR
VERSION:2.0
PRODID:-//Ultima Online - ECPv5.16.4.1//NONSGML v1.0//EN
CALSCALE:GREGORIAN
METHOD:PUBLISH
X-WR-CALNAME:Ultima Online
X-ORIGINAL-URL:https://uo.com
X-WR-CALDESC:Events for Ultima Online
BEGIN:VTIMEZONE
TZID:America/New_York
BEGIN:DAYLIGHT
TZOFFSETFROM:-0500
TZOFFSETTO:-0400
TZNAME:EDT
DTSTART:20180311T070000
END:DAYLIGHT
BEGIN:STANDARD
TZOFFSETFROM:-0400
TZOFFSETTO:-0500
TZNAME:EST
DTSTART:20181104T060000
END:STANDARD
END:VTIMEZONE
BEGIN:VEVENT
DTSTART;TZID=America/New_York:20180718T220000
DTEND;TZID=America/New_York:20180718T230000
DTSTAMP:20260421T152506
CREATED:20180707T021219Z
LAST-MODIFIED:20180707T021219Z
UID:17130-1531951200-1531954800@uo.com
SUMMARY:Atlantic - The Unliving Terror
DESCRIPTION:Hiwyn the Archmage requests your help in pursuing Mallus Luzar the Necromancer who was last seen fleeing into the Yew Crypts. Gather at the Counselor Hall!
URL:https://uo.com/event/atlantic-the-unliving-terror/
LOCATION:Meet At Counselor Hall
CATEGORIES:EM Event
END:VEVENT
END:VCALENDAR