BEGIN:VCALENDAR
VERSION:2.0
PRODID:-//Ultima Online - ECPv5.16.4.1//NONSGML v1.0//EN
CALSCALE:GREGORIAN
METHOD:PUBLISH
X-WR-CALNAME:Ultima Online
X-ORIGINAL-URL:https://uo.com
X-WR-CALDESC:Events for Ultima Online
BEGIN:VTIMEZONE
TZID:America/New_York
BEGIN:DAYLIGHT
TZOFFSETFROM:-0500
TZOFFSETTO:-0400
TZNAME:EDT
DTSTART:20180311T070000
END:DAYLIGHT
BEGIN:STANDARD
TZOFFSETFROM:-0400
TZOFFSETTO:-0500
TZNAME:EST
DTSTART:20181104T060000
END:STANDARD
END:VTIMEZONE
BEGIN:VEVENT
DTSTART;VALUE=DATE:20180722
DTEND;VALUE=DATE:20180730
DTSTAMP:20260421T133855
CREATED:20180718T172216Z
LAST-MODIFIED:20180718T172216Z
UID:17217-1532217600-1532908799@uo.com
SUMMARY:Atlantic - Shark Week - Self Paced Event
DESCRIPTION:As you know – Shark Week – is starting July 22nd.  Please head over to Castle Blackthorn and talk with Stephanie the Shark Biologist to see where these sharks call home.   This is a self paced event and lasts 1 week. Please feel free to document your findings and turn them into the Mailbox at the Britain Moongate House
URL:https://uo.com/event/atlantic-shark-week-self-paced-event/
LOCATION:Blackthorn’s Castle Courtyard
CATEGORIES:EM Event
END:VEVENT
BEGIN:VEVENT
DTSTART;TZID=America/New_York:20180726T200000
DTEND;TZID=America/New_York:20180726T210000
DTSTAMP:20260421T133855
CREATED:20180708T180846Z
LAST-MODIFIED:20180708T180846Z
UID:17138-1532635200-1532638800@uo.com
SUMMARY:Legends - Happy Trees II [R]
DESCRIPTION:On Thursday\, July 26th at 8:00 PM EST\, meet at the Rangers Guild Hall in Skara Brae.\nNote: This event will have heavy combat\, plenty o’ lag\, and a reward.
URL:https://uo.com/event/legends-happy-trees-ii-r/
LOCATION:Legends
CATEGORIES:EM Event
END:VEVENT
BEGIN:VEVENT
DTSTART;TZID=America/New_York:20180726T210000
DTEND;TZID=America/New_York:20180726T220000
DTSTAMP:20260421T133855
CREATED:20180708T232806Z
LAST-MODIFIED:20180708T233205Z
UID:17143-1532638800-1532642400@uo.com
SUMMARY:Atlantic - Governors Meeting
DESCRIPTION:This is for the Governors and all the citizens of Britannia\, everyone is welcome to attend.
URL:https://uo.com/event/atlantic-governors-meeting-2/
LOCATION:Blackthorn Castle meeting room
CATEGORIES:EM Event
END:VEVENT
END:VCALENDAR