BEGIN:VCALENDAR
VERSION:2.0
PRODID:-//Ultima Online - ECPv5.16.4.1//NONSGML v1.0//EN
CALSCALE:GREGORIAN
METHOD:PUBLISH
X-WR-CALNAME:Ultima Online
X-ORIGINAL-URL:https://uo.com
X-WR-CALDESC:Events for Ultima Online
BEGIN:VTIMEZONE
TZID:America/New_York
BEGIN:DAYLIGHT
TZOFFSETFROM:-0500
TZOFFSETTO:-0400
TZNAME:EDT
DTSTART:20180311T070000
END:DAYLIGHT
BEGIN:STANDARD
TZOFFSETFROM:-0400
TZOFFSETTO:-0500
TZNAME:EST
DTSTART:20181104T060000
END:STANDARD
TZID:America/Los_Angeles
BEGIN:DAYLIGHT
TZOFFSETFROM:-0800
TZOFFSETTO:-0700
TZNAME:PDT
DTSTART:20180311T100000
END:DAYLIGHT
BEGIN:STANDARD
TZOFFSETFROM:-0700
TZOFFSETTO:-0800
TZNAME:PST
DTSTART:20181104T090000
END:STANDARD
END:VTIMEZONE
BEGIN:VEVENT
DTSTART;VALUE=DATE:20180722
DTEND;VALUE=DATE:20180730
DTSTAMP:20260421T133936
CREATED:20180718T172216Z
LAST-MODIFIED:20180718T172216Z
UID:17217-1532217600-1532908799@uo.com
SUMMARY:Atlantic - Shark Week - Self Paced Event
DESCRIPTION:As you know – Shark Week – is starting July 22nd.  Please head over to Castle Blackthorn and talk with Stephanie the Shark Biologist to see where these sharks call home.   This is a self paced event and lasts 1 week. Please feel free to document your findings and turn them into the Mailbox at the Britain Moongate House
URL:https://uo.com/event/atlantic-shark-week-self-paced-event/
LOCATION:Blackthorn’s Castle Courtyard
CATEGORIES:EM Event
END:VEVENT
BEGIN:VEVENT
DTSTART;TZID=America/Los_Angeles:20180727T190000
DTEND;TZID=America/Los_Angeles:20180727T200000
DTSTAMP:20260421T133936
CREATED:20180627T164537Z
LAST-MODIFIED:20180627T164537Z
UID:17052-1532718000-1532721600@uo.com
SUMMARY:Origin ~ Have Gear Will Travel #35: -Band on the Run- *Felucca*
DESCRIPTION:
URL:https://uo.com/event/origin-have-gear-will-travel-35-band-on-the-run-felucca/
LOCATION:Luna Stables (meet at)
CATEGORIES:EM Event
END:VEVENT
BEGIN:VEVENT
DTSTART;TZID=America/Los_Angeles:20180727T190000
DTEND;TZID=America/Los_Angeles:20180727T200000
DTSTAMP:20260421T133936
CREATED:20180711T020807Z
LAST-MODIFIED:20180711T020807Z
UID:17164-1532718000-1532721600@uo.com
SUMMARY:Baja - Governor's Meeting
DESCRIPTION:All are invited to July’s governor meeting!
URL:https://uo.com/event/baja-governors-meeting-13/
LOCATION:King Blackthorn’s Castle
CATEGORIES:EM Event
END:VEVENT
BEGIN:VEVENT
DTSTART;TZID=America/New_York:20180727T220000
DTEND;TZID=America/New_York:20180727T230000
DTSTAMP:20260421T133936
CREATED:20180725T185016Z
LAST-MODIFIED:20180725T185314Z
UID:17232-1532728800-1532732400@uo.com
SUMMARY:Sonoma - Trade Route Troubles - 7PM PST
DESCRIPTION:Trade Route Troubles Event at 7PM PST
URL:https://uo.com/event/sonoma-trade-route-troubles-7pm-pst/
LOCATION:Sonoma
CATEGORIES:EM Event
END:VEVENT
END:VCALENDAR