BEGIN:VCALENDAR
VERSION:2.0
PRODID:-//Ultima Online - ECPv5.16.4.1//NONSGML v1.0//EN
CALSCALE:GREGORIAN
METHOD:PUBLISH
X-WR-CALNAME:Ultima Online
X-ORIGINAL-URL:https://uo.com
X-WR-CALDESC:Events for Ultima Online
BEGIN:VTIMEZONE
TZID:America/New_York
BEGIN:DAYLIGHT
TZOFFSETFROM:-0500
TZOFFSETTO:-0400
TZNAME:EDT
DTSTART:20180311T070000
END:DAYLIGHT
BEGIN:STANDARD
TZOFFSETFROM:-0400
TZOFFSETTO:-0500
TZNAME:EST
DTSTART:20181104T060000
END:STANDARD
TZID:America/Los_Angeles
BEGIN:DAYLIGHT
TZOFFSETFROM:-0800
TZOFFSETTO:-0700
TZNAME:PDT
DTSTART:20180311T100000
END:DAYLIGHT
BEGIN:STANDARD
TZOFFSETFROM:-0700
TZOFFSETTO:-0800
TZNAME:PST
DTSTART:20181104T090000
END:STANDARD
TZID:Asia/Seoul
BEGIN:STANDARD
TZOFFSETFROM:+0900
TZOFFSETTO:+0900
TZNAME:KST
DTSTART:20180101T000000
END:STANDARD
TZID:America/Chicago
BEGIN:DAYLIGHT
TZOFFSETFROM:-0600
TZOFFSETTO:-0500
TZNAME:CDT
DTSTART:20180311T080000
END:DAYLIGHT
BEGIN:STANDARD
TZOFFSETFROM:-0500
TZOFFSETTO:-0600
TZNAME:CST
DTSTART:20181104T070000
END:STANDARD
TZID:Asia/Tokyo
BEGIN:STANDARD
TZOFFSETFROM:+0900
TZOFFSETTO:+0900
TZNAME:JST
DTSTART:20180101T000000
END:STANDARD
END:VTIMEZONE
BEGIN:VEVENT
DTSTART;VALUE=DATE:20180722
DTEND;VALUE=DATE:20180730
DTSTAMP:20260421T133814
CREATED:20180718T172216Z
LAST-MODIFIED:20180718T172216Z
UID:17217-1532217600-1532908799@uo.com
SUMMARY:Atlantic - Shark Week - Self Paced Event
DESCRIPTION:As you know – Shark Week – is starting July 22nd.  Please head over to Castle Blackthorn and talk with Stephanie the Shark Biologist to see where these sharks call home.   This is a self paced event and lasts 1 week. Please feel free to document your findings and turn them into the Mailbox at the Britain Moongate House
URL:https://uo.com/event/atlantic-shark-week-self-paced-event/
LOCATION:Blackthorn’s Castle Courtyard
CATEGORIES:EM Event
END:VEVENT
BEGIN:VEVENT
DTSTART;TZID=America/New_York:20180728T170000
DTEND;TZID=America/New_York:20180728T190000
DTSTAMP:20260421T133814
CREATED:20180703T183121Z
LAST-MODIFIED:20180703T183121Z
UID:17098-1532797200-1532804400@uo.com
SUMMARY:Siege - Orcish Oblivion
DESCRIPTION:The king sat back in his chair\, and smiled.  “So\, you believe we are on the verge of victory\, commander?” \n“Yes\, my king!” beamed Bhaltair. He didn’t often smile\, much less beam\, but the collection of orcish power sources all around the royal armoury were something to smile about. Even if they did smell rather strange. \n“So\, what is our next move?” asked the king\, gesturing towards a scroll on the table “Your report spoke of an infiltration – but it was not clear on where or how.” \n“My king\, I was waiting until our scouts returned to provide you with that information! We have located the orcish – I suppose you could call it a headquarters. It is rare to find an intelligent orc. Sneaky\, certainly. Cunning\, no doubt. But intelligent? That is a rare thing. Apparently they believe so as well. Any orc who shows signs of intelligence is removed from the rest at an early age\, and kept in a place filled with scrolls\, taught by their wisest orcs\, and nurtured in secret. It is this that we have been fighting. Orcish grunts are a copper coin a legion\, but their thinkers are the ones guiding the legions\, and they are rare indeed.” \n“So\, we find them and exterminate them? Capture them? What are your thoughts\, commander? Remember\, we do still adhere to the virtues – we cannot declare check mate on these orcs by becoming as base a creature as they are! I still feel we have stained the kingdom with our temporary use of the stealing arts!” \n“No\, no – we could not guarantee that we’d get them all\, and then we’d be right back where we started\, except with angrier orcs. Our mages have been studying the stolen artifacts\, and believe they have found a way to – shall we say – neutralise these brainy orcs. Using power taken from their own artifacts\, we can reduce their collective intelligence. The intelligent ones will become as stupid as the common ones we regularly fight\, and the regular ones will become as brainless as a sack full of rocks.” \n“I see. And so\, the war will end?” asked the king hopefully. \n“It should. At the very least\, their cannon fodder will forget the basics of battle\, and become too stupid to even know which end of an axe to hold.” \n“Very well then\, commander. Make it so!” \n  \nWhat you need to know \nNot much. Gates will appear at the usual places in the hour before the event. \nCome ready for battle – orcs tend to hit first\, and not ask questions later. \n 
URL:https://uo.com/event/siege-orcish-oblivion/
LOCATION:Siege Perilous
CATEGORIES:EM Event
END:VEVENT
BEGIN:VEVENT
DTSTART;TZID=America/Los_Angeles:20180728T190000
DTEND;TZID=America/Los_Angeles:20180728T200000
DTSTAMP:20260421T133814
CREATED:20180704T094631Z
LAST-MODIFIED:20180704T094631Z
UID:17120-1532804400-1532808000@uo.com
SUMMARY:*Pacific* - Kings Meeting
DESCRIPTION:July 28 @ 7PM PST (10PM Eastern)
URL:https://uo.com/event/pacific-kings-meeting-23/
LOCATION:Castle Blackthorn Governors Hall
CATEGORIES:EM Event
END:VEVENT
BEGIN:VEVENT
DTSTART;TZID=Asia/Seoul:20180728T200000
DTEND;TZID=Asia/Seoul:20180728T210000
DTSTAMP:20260421T133814
CREATED:20180713T042940Z
LAST-MODIFIED:20180713T042940Z
UID:17184-1532808000-1532811600@uo.com
SUMMARY:Arirang - Relvinian's Maze Runner
DESCRIPTION:Event Schedule \nDate/Time: July 28th\, 2018 08:00PM KST \nMeeting Place: Britain EM Hall \nCaution! \nThis is non-reward event\, but the competition event. \nThis event is seasonal event. The goal of maze runner is to find the exit and escape from the maze. There are various traps inside of it\, and also there are hidden shortcuts as well. Although this is non-reward event\, but 3 players’ name who won the game will be engraved in specially designed sign and displayed in Reward Hall. \nWarning \nIf anyone disrupt the event\, spamming\, insulting\, and harassing others or EM\, event will be stopped until the situation is handled. Please be advice that any inappropriate behavior will noted to your account\, and some of them can be fatal. EM will trying to hear your suggestion\, complain\, question\, and feedback willingly. Even though EM willing to hear and deal with the issue\, please note that there are some things that EM cannot deal with. \nEvent Chat Channel \nDuring the event\, we’ll use “Arirang EM Event” chat channel. To communicate with EM\, it is highly recommended to join the channel. EM will not take any responsibility for any penalties of information because of this.
URL:https://uo.com/event/arirang-relvinians-maze-runner/
LOCATION:Arirang
CATEGORIES:EM Event
END:VEVENT
BEGIN:VEVENT
DTSTART;TZID=America/Chicago:20180728T200000
DTEND;TZID=America/Chicago:20180728T210000
DTSTAMP:20260421T133814
CREATED:20180716T205006Z
LAST-MODIFIED:20180716T205006Z
UID:17192-1532808000-1532811600@uo.com
SUMMARY:Lake Austin - The Celebration of Lady Harriet - 8PM Central
DESCRIPTION:July 28th 8pm Central Time\nThe Celebration of Lady Harriet \nFinally! We will celebrate with a feast at the castle in honor of Harriet’s ladyship. Be prepared for anything! What could possibly go wrong? \nMeet at the EM Hall. Transportation will be provided from both Luna and West Brit banks
URL:https://uo.com/event/lake-austin-the-celebration-of-lady-harriet-8pm-central/
CATEGORIES:EM Event
END:VEVENT
BEGIN:VEVENT
DTSTART;TZID=America/Los_Angeles:20180728T200000
DTEND;TZID=America/Los_Angeles:20180728T210000
DTSTAMP:20260421T133814
CREATED:20180719T004825Z
LAST-MODIFIED:20180719T004825Z
UID:17219-1532808000-1532811600@uo.com
SUMMARY:Baja - I Scream\, You Scream
DESCRIPTION:EM Thrixx is visiting Baja with a very special tale; Barren the Hermit requires your assistance!
URL:https://uo.com/event/baja-i-scream-you-scream/
LOCATION:Meet At Counselor Hall
CATEGORIES:EM Event
END:VEVENT
BEGIN:VEVENT
DTSTART;TZID=Asia/Tokyo:20180728T220000
DTEND;TZID=Asia/Tokyo:20180728T220000
DTSTAMP:20260421T133814
CREATED:20180624T092605Z
LAST-MODIFIED:20180624T092605Z
UID:17031-1532815200-1532815200@uo.com
SUMMARY:Sakura - Event
DESCRIPTION:TBD
URL:https://uo.com/event/sakura-event-14/
CATEGORIES:EM Event
END:VEVENT
END:VCALENDAR