BEGIN:VCALENDAR
VERSION:2.0
PRODID:-//Ultima Online - ECPv5.16.4.1//NONSGML v1.0//EN
CALSCALE:GREGORIAN
METHOD:PUBLISH
X-WR-CALNAME:Ultima Online
X-ORIGINAL-URL:https://uo.com
X-WR-CALDESC:Events for Ultima Online
BEGIN:VTIMEZONE
TZID:America/New_York
BEGIN:DAYLIGHT
TZOFFSETFROM:-0500
TZOFFSETTO:-0400
TZNAME:EDT
DTSTART:20180311T070000
END:DAYLIGHT
BEGIN:STANDARD
TZOFFSETFROM:-0400
TZOFFSETTO:-0500
TZNAME:EST
DTSTART:20181104T060000
END:STANDARD
TZID:America/Los_Angeles
BEGIN:DAYLIGHT
TZOFFSETFROM:-0800
TZOFFSETTO:-0700
TZNAME:PDT
DTSTART:20180311T100000
END:DAYLIGHT
BEGIN:STANDARD
TZOFFSETFROM:-0700
TZOFFSETTO:-0800
TZNAME:PST
DTSTART:20181104T090000
END:STANDARD
TZID:Europe/Berlin
BEGIN:DAYLIGHT
TZOFFSETFROM:+0100
TZOFFSETTO:+0200
TZNAME:CEST
DTSTART:20180325T010000
END:DAYLIGHT
BEGIN:STANDARD
TZOFFSETFROM:+0200
TZOFFSETTO:+0100
TZNAME:CET
DTSTART:20181028T010000
END:STANDARD
TZID:Asia/Tokyo
BEGIN:STANDARD
TZOFFSETFROM:+0900
TZOFFSETTO:+0900
TZNAME:JST
DTSTART:20180101T000000
END:STANDARD
TZID:Asia/Seoul
BEGIN:STANDARD
TZOFFSETFROM:+0900
TZOFFSETTO:+0900
TZNAME:KST
DTSTART:20180101T000000
END:STANDARD
END:VTIMEZONE
BEGIN:VEVENT
DTSTART;VALUE=DATE:20180722
DTEND;VALUE=DATE:20180730
DTSTAMP:20260421T133609
CREATED:20180718T172216Z
LAST-MODIFIED:20180718T172216Z
UID:17217-1532217600-1532908799@uo.com
SUMMARY:Atlantic - Shark Week - Self Paced Event
DESCRIPTION:As you know – Shark Week – is starting July 22nd.  Please head over to Castle Blackthorn and talk with Stephanie the Shark Biologist to see where these sharks call home.   This is a self paced event and lasts 1 week. Please feel free to document your findings and turn them into the Mailbox at the Britain Moongate House
URL:https://uo.com/event/atlantic-shark-week-self-paced-event/
LOCATION:Blackthorn’s Castle Courtyard
CATEGORIES:EM Event
END:VEVENT
BEGIN:VEVENT
DTSTART;TZID=America/Los_Angeles:20180729T180000
DTEND;TZID=America/Los_Angeles:20180729T190000
DTSTAMP:20260421T133609
CREATED:20180627T164930Z
LAST-MODIFIED:20180627T164930Z
UID:17054-1532887200-1532890800@uo.com
SUMMARY:Origin ~ *SOS* Slayers of Scalis
DESCRIPTION:
URL:https://uo.com/event/origin-sos-slayers-of-scalis-5/
LOCATION:Gates at W. Britain\, Haven & Luna Banks
CATEGORIES:EM Event
END:VEVENT
BEGIN:VEVENT
DTSTART;TZID=Europe/Berlin:20180729T203000
DTEND;TZID=Europe/Berlin:20180729T213000
DTSTAMP:20260421T133609
CREATED:20180702T211546Z
LAST-MODIFIED:20180702T212259Z
UID:17081-1532896200-1532899800@uo.com
SUMMARY:Drachenfels: Royal Audience & HoF Ceremony | Königliche Audienz & HoF Zeremonie
DESCRIPTION:Time: 8:30pm CET (UTC+2).  Location: Castle Blackthorn\, Britain\, Trammel.\nAfter the Royal Audience\, the Throne Room will be the venue for the special HoF Ceremony in honour of our dedicated players. Check out this list to see who qualified. If your name on this list has 9 or more points and you can’t come this evening\, please contact me (by e-mail). \nZeit: 20:30 Uhr CET (UTC+2). Ort: Schloss Blackthorn\, Britain\, Trammel.\nNach der Königlichen Audienz findet im Thronsaal die spezielle HoF Zeremonie zu Ehren unserer engagierten Spieler statt. Schaut euch diese Liste an um zu sehen wer sich dafür qualifiziert hat. Wenn euer Name auf dieser Liste 9 Punkte oder mehr hat und ihr an diesem Abend nicht kommen könnt\, meldet euch bei mir (per E-Mail).
URL:https://uo.com/event/drachenfels-royal-audience-hof-ceremony-konigliche-audienz-hof-zeremonie-3/
LOCATION:Drachenfels
CATEGORIES:EM Event
END:VEVENT
BEGIN:VEVENT
DTSTART;TZID=Asia/Tokyo:20180729T220000
DTEND;TZID=Asia/Tokyo:20180729T220000
DTSTAMP:20260421T133609
CREATED:20180624T092837Z
LAST-MODIFIED:20180624T092837Z
UID:17033-1532901600-1532901600@uo.com
SUMMARY:Sakura - The Council Meeting With The King
DESCRIPTION:The monthly governor’s meeting with King Blackthorn. Everyone is invited.
URL:https://uo.com/event/sakura-the-council-meeting-with-the-king-22/
LOCATION:Blackthorn Castle
CATEGORIES:EM Event
END:VEVENT
BEGIN:VEVENT
DTSTART;TZID=Asia/Seoul:20180729T220000
DTEND;TZID=Asia/Seoul:20180729T230000
DTSTAMP:20260421T133609
CREATED:20180723T153948Z
LAST-MODIFIED:20180723T153948Z
UID:17226-1532901600-1532905200@uo.com
SUMMARY:Balhae The Summer Hideout
DESCRIPTION:Britain EM Hall
URL:https://uo.com/event/balhae-the-summer-hideout/
LOCATION:Balhae EM Britain Hall
CATEGORIES:EM Event
END:VEVENT
END:VCALENDAR