BEGIN:VCALENDAR
VERSION:2.0
PRODID:-//Ultima Online - ECPv5.16.4.1//NONSGML v1.0//EN
CALSCALE:GREGORIAN
METHOD:PUBLISH
X-WR-CALNAME:Ultima Online
X-ORIGINAL-URL:https://uo.com
X-WR-CALDESC:Events for Ultima Online
BEGIN:VTIMEZONE
TZID:America/Chicago
BEGIN:DAYLIGHT
TZOFFSETFROM:-0600
TZOFFSETTO:-0500
TZNAME:CDT
DTSTART:20180311T080000
END:DAYLIGHT
BEGIN:STANDARD
TZOFFSETFROM:-0500
TZOFFSETTO:-0600
TZNAME:CST
DTSTART:20181104T070000
END:STANDARD
TZID:Asia/Taipei
BEGIN:STANDARD
TZOFFSETFROM:+0800
TZOFFSETTO:+0800
TZNAME:CST
DTSTART:20180101T000000
END:STANDARD
TZID:America/New_York
BEGIN:DAYLIGHT
TZOFFSETFROM:-0500
TZOFFSETTO:-0400
TZNAME:EDT
DTSTART:20180311T070000
END:DAYLIGHT
BEGIN:STANDARD
TZOFFSETFROM:-0400
TZOFFSETTO:-0500
TZNAME:EST
DTSTART:20181104T060000
END:STANDARD
END:VTIMEZONE
BEGIN:VEVENT
DTSTART;TZID=America/Chicago:20180731T200000
DTEND;TZID=America/Chicago:20180731T200000
DTSTAMP:20260421T120254
CREATED:20180703T005729Z
LAST-MODIFIED:20180703T005729Z
UID:17096-1533067200-1533067200@uo.com
SUMMARY:Great Lakes - Royal Spy Mission
DESCRIPTION:This Royal Spy mission has the codename “Once and Future”. To attend\, go to the Britain Counselor Hall and investigate the suit of armor.
URL:https://uo.com/event/great-lakes-royal-spy-mission-76/
LOCATION:Great Lakes – Counselor Hall
CATEGORIES:EM Event
END:VEVENT
BEGIN:VEVENT
DTSTART;TZID=Asia/Taipei:20180731T210000
DTEND;TZID=Asia/Taipei:20180731T220000
DTSTAMP:20260421T120254
CREATED:20180723T154144Z
LAST-MODIFIED:20180723T154144Z
UID:17228-1533070800-1533074400@uo.com
SUMMARY:Formosa The Summer Hideout
DESCRIPTION:EM Britain Hall
URL:https://uo.com/event/formosa-the-summer-hideout/
LOCATION:Formosa Britain EM Hall
CATEGORIES:EM Event
END:VEVENT
BEGIN:VEVENT
DTSTART;TZID=America/New_York:20180731T233000
DTEND;TZID=America/New_York:20180731T233000
DTSTAMP:20260421T120254
CREATED:20180703T183113Z
LAST-MODIFIED:20180703T183113Z
UID:17101-1533079800-1533079800@uo.com
SUMMARY:Siege - July Fishing Contest
DESCRIPTION:Who’d want to catch stones? They’re small\, break your teeth\, and have no taste at all. But still – kicking off the new fishing year’s contest\, go and catch me the biggest stone fish you can! Drop your catch into the EM hall’s mailbox\, and you could find your efforts preserved at the Hall of Champions! \nStone fish. Eww. Crunchy. \nAnyway – It has been a whole year since we started the new fishing contest. \nThat means it’s time to announce the winner of the Big Fish Contest! \nIn third place was Mapario Naharis\, with 181 stones. \nIn second place was Sara Dale\, with 186 stones. \nIn first place was Sir Charles\, with a 193 stone giant! \nIt didn’t quite beat 2016’s winning catch – 196 stones\, caught by Victim – but it came close! And it was the biggest catch of the 2017-18 contest! \nSo well done\, Sir Charles\, and your fish is on display at the EM Hall!
URL:https://uo.com/event/siege-july-fishing-contest/
LOCATION:Siege Perilous
CATEGORIES:EM Event
END:VEVENT
END:VCALENDAR