BEGIN:VCALENDAR
VERSION:2.0
PRODID:-//Ultima Online - ECPv5.16.4.1//NONSGML v1.0//EN
CALSCALE:GREGORIAN
METHOD:PUBLISH
X-WR-CALNAME:Ultima Online
X-ORIGINAL-URL:https://uo.com
X-WR-CALDESC:Events for Ultima Online
BEGIN:VTIMEZONE
TZID:America/Chicago
BEGIN:DAYLIGHT
TZOFFSETFROM:-0600
TZOFFSETTO:-0500
TZNAME:CDT
DTSTART:20180311T080000
END:DAYLIGHT
BEGIN:STANDARD
TZOFFSETFROM:-0500
TZOFFSETTO:-0600
TZNAME:CST
DTSTART:20181104T070000
END:STANDARD
TZID:America/New_York
BEGIN:DAYLIGHT
TZOFFSETFROM:-0500
TZOFFSETTO:-0400
TZNAME:EDT
DTSTART:20180311T070000
END:DAYLIGHT
BEGIN:STANDARD
TZOFFSETFROM:-0400
TZOFFSETTO:-0500
TZNAME:EST
DTSTART:20181104T060000
END:STANDARD
END:VTIMEZONE
BEGIN:VEVENT
DTSTART;TZID=America/Chicago:20180804T080000
DTEND;TZID=America/Chicago:20180804T210000
DTSTAMP:20260421T120208
CREATED:20180716T211109Z
LAST-MODIFIED:20180716T211109Z
UID:17196-1533369600-1533416400@uo.com
SUMMARY:Lake Austin - Town Hall - 8pm Central Time
DESCRIPTION:August 4th 8pm Central Time \nTown Hall Meeting \nTo be discussed: Future events\, Governor Meetings\, New Event Types\nEveryone who plays or attends events on Lake Austin encouraged to attend
URL:https://uo.com/event/lake-austin-town-hall-8pm-central-time/
CATEGORIES:EM Event
END:VEVENT
BEGIN:VEVENT
DTSTART;TZID=America/New_York:20180804T170000
DTEND;TZID=America/New_York:20180804T180000
DTSTAMP:20260421T120208
CREATED:20180813T173532Z
LAST-MODIFIED:20180813T173532Z
UID:17393-1533402000-1533405600@uo.com
SUMMARY:Siege - Treasure Hunt
DESCRIPTION:Once again\, you are invited to come and dig stuff up\, run away from frost dragons\, tame a few things\, and go home slightly richer than when you arrived! \nFor those who aren’t familiar with this type of event\, we are going to go and dig up some high level treasure maps. Once the guardians of the chest are dead\, the contents will be made available to you. \nAnything not wanted by the end of the night will be put in the EM Hall for any aspiring imbuers to do what they like with – and there is now a soulforge on the roof. \nHappy hunting!
URL:https://uo.com/event/siege-treasure-hunt-2/
LOCATION:Siege Perilous
CATEGORIES:EM Event
END:VEVENT
END:VCALENDAR