BEGIN:VCALENDAR
VERSION:2.0
PRODID:-//Ultima Online - ECPv5.16.4.1//NONSGML v1.0//EN
CALSCALE:GREGORIAN
METHOD:PUBLISH
X-WR-CALNAME:Ultima Online
X-ORIGINAL-URL:https://uo.com
X-WR-CALDESC:Events for Ultima Online
BEGIN:VTIMEZONE
TZID:America/Los_Angeles
BEGIN:DAYLIGHT
TZOFFSETFROM:-0800
TZOFFSETTO:-0700
TZNAME:PDT
DTSTART:20180311T100000
END:DAYLIGHT
BEGIN:STANDARD
TZOFFSETFROM:-0700
TZOFFSETTO:-0800
TZNAME:PST
DTSTART:20181104T090000
END:STANDARD
TZID:Europe/Berlin
BEGIN:DAYLIGHT
TZOFFSETFROM:+0100
TZOFFSETTO:+0200
TZNAME:CEST
DTSTART:20180325T010000
END:DAYLIGHT
BEGIN:STANDARD
TZOFFSETFROM:+0200
TZOFFSETTO:+0100
TZNAME:CET
DTSTART:20181028T010000
END:STANDARD
TZID:Europe/London
BEGIN:DAYLIGHT
TZOFFSETFROM:+0000
TZOFFSETTO:+0100
TZNAME:BST
DTSTART:20180325T010000
END:DAYLIGHT
BEGIN:STANDARD
TZOFFSETFROM:+0100
TZOFFSETTO:+0000
TZNAME:GMT
DTSTART:20181028T010000
END:STANDARD
TZID:America/New_York
BEGIN:DAYLIGHT
TZOFFSETFROM:-0500
TZOFFSETTO:-0400
TZNAME:EDT
DTSTART:20180311T070000
END:DAYLIGHT
BEGIN:STANDARD
TZOFFSETFROM:-0400
TZOFFSETTO:-0500
TZNAME:EST
DTSTART:20181104T060000
END:STANDARD
END:VTIMEZONE
BEGIN:VEVENT
DTSTART;TZID=America/Los_Angeles:20180819T180000
DTEND;TZID=America/Los_Angeles:20180819T183000
DTSTAMP:20260421T120401
CREATED:20180803T005711Z
LAST-MODIFIED:20180803T005711Z
UID:17268-1534701600-1534703400@uo.com
SUMMARY:Origin ~ The King’s Meeting
DESCRIPTION:
URL:https://uo.com/event/origin-the-kings-meeting-11/
LOCATION:Blackthorn Castle meeting room
CATEGORIES:EM Event
END:VEVENT
BEGIN:VEVENT
DTSTART;TZID=America/Los_Angeles:20180819T183000
DTEND;TZID=America/Los_Angeles:20180819T193000
DTSTAMP:20260421T120401
CREATED:20180803T005958Z
LAST-MODIFIED:20180803T005958Z
UID:17270-1534703400-1534707000@uo.com
SUMMARY:Origin ~ O.R.G. Boot Camp XXVIII (Summer Session 2)
DESCRIPTION:
URL:https://uo.com/event/origin-o-r-g-boot-camp-xxviii-summer-session-2/
LOCATION:O.R.G. Training Grounds (Malas)
CATEGORIES:EM Event
END:VEVENT
BEGIN:VEVENT
DTSTART;TZID=Europe/Berlin:20180819T203000
DTEND;TZID=Europe/Berlin:20180819T213000
DTSTAMP:20260421T120401
CREATED:20180802T092244Z
LAST-MODIFIED:20180802T092259Z
UID:17256-1534710600-1534714200@uo.com
SUMMARY:Drachenfels: Sputnil - The story of Bella and Strella | Die Geschichte von Bella & Strella
DESCRIPTION:Time: 8:30pm CEST (UTC+2).  Location: EM Hall\, Britain\, Trammel.\nMain Event: Probably the worst example of air travel in space\, but Bella and Strella were always stubborn. They were meant to go to the sky\, but unfortunately without great success. Help Lieutenant Gelbendil find their fate! \nZeit: 20:30 Uhr CEST (UTC+2). Ort: EM Hall\, Britain\, Trammel.\nHaupt Event: Wahrscheinlich das schlechteste Beispiel für Flugreisen ins All\, aber Bella und Strella waren schon immer hartnäckig. Sie sollten in den Himmel fahren\, aber leider ohne großen Erfolg. Hilf Lieutenant Gelbendil\, ihr Schicksal zu finden!
URL:https://uo.com/event/drachenfels-sputnil-the-story-of-bella-and-strella-die-geschichte-von-bella-strella/
LOCATION:Drachenfels
CATEGORIES:EM Event
END:VEVENT
BEGIN:VEVENT
DTSTART;TZID=Europe/London:20180819T203000
DTEND;TZID=Europe/London:20180819T213000
DTSTAMP:20260421T120401
CREATED:20180803T094151Z
LAST-MODIFIED:20180803T094151Z
UID:17292-1534710600-1534714200@uo.com
SUMMARY:Europa - Beatrice's hope
DESCRIPTION:RP Based event – gather at EM Hall at 8.30 PM UK time zone
URL:https://uo.com/event/europa-beatrices-hope/
CATEGORIES:EM Event
END:VEVENT
BEGIN:VEVENT
DTSTART;TZID=America/New_York:20180819T220000
DTEND;TZID=America/New_York:20180819T230000
DTSTAMP:20260421T120401
CREATED:20180818T004646Z
LAST-MODIFIED:20180818T004646Z
UID:17419-1534716000-1534719600@uo.com
SUMMARY:Sonoma - Governors Meeting - 7PM PDT
DESCRIPTION:There will be a Governors Meeting at 7PM PDT!
URL:https://uo.com/event/sonoma-governors-meeting-7pm-pdt-2/
LOCATION:Sonoma
CATEGORIES:EM Event
END:VEVENT
END:VCALENDAR