BEGIN:VCALENDAR
VERSION:2.0
PRODID:-//Ultima Online - ECPv5.16.4.1//NONSGML v1.0//EN
CALSCALE:GREGORIAN
METHOD:PUBLISH
X-WR-CALNAME:Ultima Online
X-ORIGINAL-URL:https://uo.com
X-WR-CALDESC:Events for Ultima Online
BEGIN:VTIMEZONE
TZID:America/New_York
BEGIN:DAYLIGHT
TZOFFSETFROM:-0500
TZOFFSETTO:-0400
TZNAME:EDT
DTSTART:20180311T070000
END:DAYLIGHT
BEGIN:STANDARD
TZOFFSETFROM:-0400
TZOFFSETTO:-0500
TZNAME:EST
DTSTART:20181104T060000
END:STANDARD
TZID:America/Los_Angeles
BEGIN:DAYLIGHT
TZOFFSETFROM:-0800
TZOFFSETTO:-0700
TZNAME:PDT
DTSTART:20180311T100000
END:DAYLIGHT
BEGIN:STANDARD
TZOFFSETFROM:-0700
TZOFFSETTO:-0800
TZNAME:PST
DTSTART:20181104T090000
END:STANDARD
TZID:Asia/Seoul
BEGIN:STANDARD
TZOFFSETFROM:+0900
TZOFFSETTO:+0900
TZNAME:KST
DTSTART:20180101T000000
END:STANDARD
TZID:America/Chicago
BEGIN:DAYLIGHT
TZOFFSETFROM:-0600
TZOFFSETTO:-0500
TZNAME:CDT
DTSTART:20180311T080000
END:DAYLIGHT
BEGIN:STANDARD
TZOFFSETFROM:-0500
TZOFFSETTO:-0600
TZNAME:CST
DTSTART:20181104T070000
END:STANDARD
TZID:Asia/Taipei
BEGIN:STANDARD
TZOFFSETFROM:+0800
TZOFFSETTO:+0800
TZNAME:CST
DTSTART:20180101T000000
END:STANDARD
TZID:Asia/Tokyo
BEGIN:STANDARD
TZOFFSETFROM:+0900
TZOFFSETTO:+0900
TZNAME:JST
DTSTART:20180101T000000
END:STANDARD
END:VTIMEZONE
BEGIN:VEVENT
DTSTART;TZID=America/New_York:20180825T173000
DTEND;TZID=America/New_York:20180825T180000
DTSTAMP:20260421T120256
CREATED:20180813T173845Z
LAST-MODIFIED:20180813T173845Z
UID:17399-1535218200-1535220000@uo.com
SUMMARY:Siege - Musical Chairs
DESCRIPTION:King Blackthorn stood at the battlements of his castle\, looking at the plumes of smoke dying out across the land. He stared at the scroll in his hand\, and shook his head sadly. Over 9 thousand dead. Damages to the tune of 250 platinum. And still\, small bands of orcs wandering aimlessly\, plundering whatever they found\, across the land. Although\, he had to admit\, the small bands were getting smaller by the hour. The citizens had reached their limit\, as far as orcs went. \nIt was said that the orcs had begun their attack because of a disturbed tomb or monument\, but that made no sense. They had started by attacking the outskirts of Britain\, certainly – but that did not last long. Why were the Meer attacked? And then there was the fighting skill of the orcs – or the lack of it. They swung mindlessly\, fighting as if in a trance – it was only the sheer volume of their numbers that had overwhelmed the militia of the villages. There must be more to it. \nHe was disturbed by the arrival of the Royal Detective\, landing on the roof\, great wings folding behind him. “Sire! I have found it! The reason for the attacks! There is a mind bender amongst the orcs – a foul creature\, outcast by his tribe\, who sought to rule them all through dark magics! It seems he has ensorceled them through… furniture! Furniture\, I ask you?!? ” \nBlackthorn studied the gargoyles face\, and then smiled. “And you know exactly where this orc is\, don’t you?” \n“Indeed\, Sire. Indeed I do.”
URL:https://uo.com/event/siege-musical-chairs/
LOCATION:Siege Perilous
CATEGORIES:EM Event
END:VEVENT
BEGIN:VEVENT
DTSTART;TZID=America/Los_Angeles:20180825T190000
DTEND;TZID=America/Los_Angeles:20180825T200000
DTSTAMP:20260421T120256
CREATED:20180812T044503Z
LAST-MODIFIED:20180812T044503Z
UID:17383-1535223600-1535227200@uo.com
SUMMARY:*Pacific* Kingdom of the Dead
DESCRIPTION:
URL:https://uo.com/event/pacific-kingdom-of-the-dead/
LOCATION:Castle Blackthorn Courtyard
CATEGORIES:EM Event
END:VEVENT
BEGIN:VEVENT
DTSTART;TZID=Asia/Seoul:20180825T200000
DTEND;TZID=Asia/Seoul:20180825T210000
DTSTAMP:20260421T120256
CREATED:20180727T025927Z
LAST-MODIFIED:20180727T025927Z
UID:17244-1535227200-1535230800@uo.com
SUMMARY:Arirang - 2018 Dart Challenge
DESCRIPTION:Event Schedule \nDate/Time: August 25th\, 2018 08:00PM KST \nMeeting Place: Britain EM Hall \nCaution! \nThis is non-reward event\, but the competition event. \nThis is seasonal event. Dart Challenge is basically tournament and the one who have highest point will win the game. Although there will be no personal reward but the last 3 winners’ name will be engraved and displayed in EM Reward Hall in Malas. \nWarning \nIf anyone disrupt the event\, spamming\, insulting\, and harassing others or EM\, event will be stopped until the situation is handled. Please be advice that any inappropriate behavior will noted to your account\, and some of them can be fatal. EM will trying to hear your suggestion\, complain\, question\, and feedback willingly. Even though EM willing to hear and deal with the issue\, please note that there are some things that EM cannot deal with. \nEvent Chat Channel \nDuring the event\, we’ll use “Arirang EM Event” chat channel. To communicate with EM\, it is highly recommended to join the channel. EM will not take any responsibility for any penalties of information because of this.
URL:https://uo.com/event/arirang-2018-dart-challenge/
LOCATION:Arirang
CATEGORIES:EM Event
END:VEVENT
BEGIN:VEVENT
DTSTART;TZID=America/Chicago:20180825T200000
DTEND;TZID=America/Chicago:20180825T200000
DTSTAMP:20260421T120256
CREATED:20180803T025734Z
LAST-MODIFIED:20180803T025734Z
UID:17284-1535227200-1535227200@uo.com
SUMMARY:Great Lakes - Beach Party!
DESCRIPTION:Frolic in the surf!
URL:https://uo.com/event/great-lakes-beach-party-2/
LOCATION:Great Lakes – Counselor Hall
CATEGORIES:EM Event
END:VEVENT
BEGIN:VEVENT
DTSTART;TZID=America/Chicago:20180825T200000
DTEND;TZID=America/Chicago:20180825T210000
DTSTAMP:20260421T120256
CREATED:20180808T030455Z
LAST-MODIFIED:20180808T030930Z
UID:17320-1535227200-1535230800@uo.com
SUMMARY:Lake Austin - EM Event
DESCRIPTION:Saturday\, August 25 – 8PM  Central (9PM Eastern) – EM Event – Meet at EM Hall – Transportation to the event will be provided from Luna and WBB approximately 30 minutes prior to the event
URL:https://uo.com/event/lake-austin-em-event-2/
CATEGORIES:EM Event
END:VEVENT
BEGIN:VEVENT
DTSTART;TZID=Asia/Taipei:20180825T210000
DTEND;TZID=Asia/Taipei:20180825T220000
DTSTAMP:20260421T120256
CREATED:20180819T190300Z
LAST-MODIFIED:20180819T190300Z
UID:17425-1535230800-1535234400@uo.com
SUMMARY:Formosa Hunter Game
DESCRIPTION:Best Hunter Game Event
URL:https://uo.com/event/formosa-hunter-game/
LOCATION:Formosa Britain EM Hall
CATEGORIES:EM Event
END:VEVENT
BEGIN:VEVENT
DTSTART;TZID=Asia/Tokyo:20180825T220000
DTEND;TZID=Asia/Tokyo:20180825T220000
DTSTAMP:20260421T120256
CREATED:20180808T131547Z
LAST-MODIFIED:20180808T131547Z
UID:17322-1535234400-1535234400@uo.com
SUMMARY:Sakura - Event
DESCRIPTION:TBD
URL:https://uo.com/event/sakura-event-15/
CATEGORIES:EM Event
END:VEVENT
END:VCALENDAR