BEGIN:VCALENDAR
VERSION:2.0
PRODID:-//Ultima Online - ECPv5.16.4.1//NONSGML v1.0//EN
CALSCALE:GREGORIAN
METHOD:PUBLISH
X-WR-CALNAME:Ultima Online
X-ORIGINAL-URL:https://uo.com
X-WR-CALDESC:Events for Ultima Online
BEGIN:VTIMEZONE
TZID:America/Los_Angeles
BEGIN:DAYLIGHT
TZOFFSETFROM:-0800
TZOFFSETTO:-0700
TZNAME:PDT
DTSTART:20180311T100000
END:DAYLIGHT
BEGIN:STANDARD
TZOFFSETFROM:-0700
TZOFFSETTO:-0800
TZNAME:PST
DTSTART:20181104T090000
END:STANDARD
TZID:Europe/Berlin
BEGIN:DAYLIGHT
TZOFFSETFROM:+0100
TZOFFSETTO:+0200
TZNAME:CEST
DTSTART:20180325T010000
END:DAYLIGHT
BEGIN:STANDARD
TZOFFSETFROM:+0200
TZOFFSETTO:+0100
TZNAME:CET
DTSTART:20181028T010000
END:STANDARD
TZID:Asia/Tokyo
BEGIN:STANDARD
TZOFFSETFROM:+0900
TZOFFSETTO:+0900
TZNAME:JST
DTSTART:20180101T000000
END:STANDARD
TZID:Asia/Seoul
BEGIN:STANDARD
TZOFFSETFROM:+0900
TZOFFSETTO:+0900
TZNAME:KST
DTSTART:20180101T000000
END:STANDARD
END:VTIMEZONE
BEGIN:VEVENT
DTSTART;TZID=America/Los_Angeles:20180826T190000
DTEND;TZID=America/Los_Angeles:20180826T200000
DTSTAMP:20260421T120254
CREATED:20180812T044613Z
LAST-MODIFIED:20180812T044613Z
UID:17385-1535310000-1535313600@uo.com
SUMMARY:*Pacific* Kings Meeting
DESCRIPTION:
URL:https://uo.com/event/pacific-kings-meeting-24/
LOCATION:Castle Blackthorn Governors Hall
CATEGORIES:EM Event
END:VEVENT
BEGIN:VEVENT
DTSTART;TZID=Europe/Berlin:20180826T203000
DTEND;TZID=Europe/Berlin:20180826T213000
DTSTAMP:20260421T120254
CREATED:20180802T092554Z
LAST-MODIFIED:20180802T092554Z
UID:17258-1535315400-1535319000@uo.com
SUMMARY:Drachenfels: Royal Audience | Königliche Audienz & HoF Event
DESCRIPTION:Time: 8:30pm CEST (UTC+2). Location: Castle Blackthorn\, Britain\, Trammel.\nA Royal Audience will be held. Afterwards there will be an Excursion with Zibalba (T-Hunt\, HoF/RP)\, gates will be provided from the usual locations. \nZeit: 20:30 Uhr CEST (UTC+2). Ort: Schloss Blackthorn\, Britain\, Trammel.\nEine Königliche Audienz wird abgehalten. Danach folgt eine Exkursion mit Zibalba (Schatzjagd\, HoF/RP)\, Mondtore werden von den üblichen Orten gestellt.
URL:https://uo.com/event/drachenfels-royal-audience-konigliche-audienz-hof-event-3/
LOCATION:Drachenfels
CATEGORIES:EM Event
END:VEVENT
BEGIN:VEVENT
DTSTART;TZID=Asia/Tokyo:20180826T220000
DTEND;TZID=Asia/Tokyo:20180826T220000
DTSTAMP:20260421T120254
CREATED:20180808T131904Z
LAST-MODIFIED:20180808T131904Z
UID:17324-1535320800-1535320800@uo.com
SUMMARY:Sakura - The Council Meeting With The King
DESCRIPTION:The monthly governor’s meeting with King Blackthorn. Everyone is invited.
URL:https://uo.com/event/sakura-the-council-meeting-with-the-king-23/
LOCATION:Blackthorn Castle
CATEGORIES:EM Event
END:VEVENT
BEGIN:VEVENT
DTSTART;TZID=Asia/Tokyo:20180826T220000
DTEND;TZID=Asia/Tokyo:20180826T220000
DTSTAMP:20260421T120254
CREATED:20180809T025842Z
LAST-MODIFIED:20180809T025842Z
UID:17374-1535320800-1535320800@uo.com
SUMMARY:Mizuho - The Council Meeting With The King
DESCRIPTION:The monthly governor’s meeting with King Blackthorn. Everyone is invited.
URL:https://uo.com/event/mizuho-the-council-meeting-with-the-king-22/
CATEGORIES:EM Event
END:VEVENT
BEGIN:VEVENT
DTSTART;TZID=Asia/Seoul:20180826T220000
DTEND;TZID=Asia/Seoul:20180826T230000
DTSTAMP:20260421T120254
CREATED:20180819T185952Z
LAST-MODIFIED:20180825T122350Z
UID:17423-1535320800-1535324400@uo.com
SUMMARY:Balhae Summer Hideout Part 2
DESCRIPTION:The Bridge
URL:https://uo.com/event/balhae-summer-hideout-part-2/
LOCATION:Balhae EM Britain Hall
CATEGORIES:EM Event
END:VEVENT
END:VCALENDAR