BEGIN:VCALENDAR
VERSION:2.0
PRODID:-//Ultima Online - ECPv5.16.4.1//NONSGML v1.0//EN
CALSCALE:GREGORIAN
METHOD:PUBLISH
X-WR-CALNAME:Ultima Online
X-ORIGINAL-URL:https://uo.com
X-WR-CALDESC:Events for Ultima Online
BEGIN:VTIMEZONE
TZID:America/Los_Angeles
BEGIN:DAYLIGHT
TZOFFSETFROM:-0800
TZOFFSETTO:-0700
TZNAME:PDT
DTSTART:20180311T100000
END:DAYLIGHT
BEGIN:STANDARD
TZOFFSETFROM:-0700
TZOFFSETTO:-0800
TZNAME:PST
DTSTART:20181104T090000
END:STANDARD
TZID:Europe/Berlin
BEGIN:DAYLIGHT
TZOFFSETFROM:+0100
TZOFFSETTO:+0200
TZNAME:CEST
DTSTART:20180325T010000
END:DAYLIGHT
BEGIN:STANDARD
TZOFFSETFROM:+0200
TZOFFSETTO:+0100
TZNAME:CET
DTSTART:20181028T010000
END:STANDARD
END:VTIMEZONE
BEGIN:VEVENT
DTSTART;TZID=America/Los_Angeles:20180902T180000
DTEND;TZID=America/Los_Angeles:20180902T190000
DTSTAMP:20260421T104608
CREATED:20180827T023018Z
LAST-MODIFIED:20180827T023018Z
UID:17437-1535911200-1535914800@uo.com
SUMMARY:Baja - The Pen Of Conjuring
DESCRIPTION:EM Artemis is visiting Baja with a tale of her own! \nIlidris needs your help in recovering a magical artifact that was violently stolen from a trade caravan!
URL:https://uo.com/event/baja-the-pen-of-conjuring/
LOCATION:Meet At Counselor Hall
CATEGORIES:EM Event
END:VEVENT
BEGIN:VEVENT
DTSTART;TZID=America/Los_Angeles:20180902T180000
DTEND;TZID=America/Los_Angeles:20180902T193000
DTSTAMP:20260421T104608
CREATED:20180829T192718Z
LAST-MODIFIED:20180829T192718Z
UID:17456-1535911200-1535916600@uo.com
SUMMARY:Origin ~ Fireside Chat & Zig’s *Mini Monster Mash*!
DESCRIPTION:
URL:https://uo.com/event/origin-fireside-chat-zigs-mini-monster-mash-7/
LOCATION:Award Hall BBQ Area (Malas)
CATEGORIES:EM Event
END:VEVENT
BEGIN:VEVENT
DTSTART;TZID=Europe/Berlin:20180902T203000
DTEND;TZID=Europe/Berlin:20180902T213000
DTSTAMP:20260421T104608
CREATED:20180828T125558Z
LAST-MODIFIED:20180828T131522Z
UID:17440-1535920200-1535923800@uo.com
SUMMARY:Drachenfels: Zibalba's Excursion (HoF/RP)
DESCRIPTION:Time: 8:30pm CEST (UTC+2).  Location: EM Reward Museum\, Malas.\nMini Event: Zibalba wants to take you on an adventure on the water tonight – he doesn’t want to find anyone else but Osiredon! Come well prepared!\nLocation: Meet at EM Reward Hall\, Malas. \nZeit: 20:30 Uhr CEST (UTC+2). Ort: EM Reward Museum\, Malas.\nMini Event: Zibalba will euch heute Abend auf ein Abenteuer auf dem Wasser mitnehmen – niemand anderen als Osiredon will er aufspüren! Kommt gut vorbereitet!
URL:https://uo.com/event/drachenfels-zibalbas-excursion-hof-rp-2/
LOCATION:Drachenfels
CATEGORIES:EM Event
END:VEVENT
END:VCALENDAR