BEGIN:VCALENDAR
VERSION:2.0
PRODID:-//Ultima Online - ECPv5.16.4.1//NONSGML v1.0//EN
CALSCALE:GREGORIAN
METHOD:PUBLISH
X-WR-CALNAME:Ultima Online
X-ORIGINAL-URL:https://uo.com
X-WR-CALDESC:Events for Ultima Online
BEGIN:VTIMEZONE
TZID:Europe/Berlin
BEGIN:DAYLIGHT
TZOFFSETFROM:+0100
TZOFFSETTO:+0200
TZNAME:CEST
DTSTART:20180325T010000
END:DAYLIGHT
BEGIN:STANDARD
TZOFFSETFROM:+0200
TZOFFSETTO:+0100
TZNAME:CET
DTSTART:20181028T010000
END:STANDARD
TZID:Asia/Tokyo
BEGIN:STANDARD
TZOFFSETFROM:+0900
TZOFFSETTO:+0900
TZNAME:JST
DTSTART:20180101T000000
END:STANDARD
END:VTIMEZONE
BEGIN:VEVENT
DTSTART;TZID=Europe/Berlin:20180909T203000
DTEND;TZID=Europe/Berlin:20180909T213000
DTSTAMP:20260421T104740
CREATED:20180828T131339Z
LAST-MODIFIED:20180828T131339Z
UID:17450-1536525000-1536528600@uo.com
SUMMARY:Drachenfels: The Zoo & Museums (HoF/RP)
DESCRIPTION:Time: 8:30pm CEST (UTC+2). Location: Castle Blackthorn\, Britain\, Trammel.\nMain HoF (RP) Event: This evening is dedicated to the well-being of the zoo and the local museums. Participate in this evening with material and/or with your presence and bring your weapons\, pets or spellbooks! \nZeit: 20:30 Uhr CEST (UTC+2). Ort: Schloss Blackthorn\, Britain\, Trammel.\nHaupt HoF (RP) Event: Dieser Abend ist ganz dem Wohlgehen des Zoos und der lokalen Museen gewidmet. Beteiligt euch an diesem Abend materiall und/oder mit eurer Anwesenheit und bringt eure Waffen\, Haustiere oder Zauberbücher mit!
URL:https://uo.com/event/drachenfels-the-zoo-museums-hof-rp/
LOCATION:Drachenfels
CATEGORIES:EM Event
END:VEVENT
BEGIN:VEVENT
DTSTART;TZID=Asia/Tokyo:20180909T220000
DTEND;TZID=Asia/Tokyo:20180909T220000
DTSTAMP:20260421T104740
CREATED:20180808T132245Z
LAST-MODIFIED:20180808T132245Z
UID:17326-1536530400-1536530400@uo.com
SUMMARY:Sakura - Mini Event
DESCRIPTION:TBD
URL:https://uo.com/event/sakura-mini-event-10/
LOCATION:Sakura – EM Hall\, Japan
CATEGORIES:EM Event
END:VEVENT
END:VCALENDAR