BEGIN:VCALENDAR
VERSION:2.0
PRODID:-//Ultima Online - ECPv5.16.4.1//NONSGML v1.0//EN
CALSCALE:GREGORIAN
METHOD:PUBLISH
X-WR-CALNAME:Ultima Online
X-ORIGINAL-URL:https://uo.com
X-WR-CALDESC:Events for Ultima Online
BEGIN:VTIMEZONE
TZID:America/New_York
BEGIN:DAYLIGHT
TZOFFSETFROM:-0500
TZOFFSETTO:-0400
TZNAME:EDT
DTSTART:20180311T070000
END:DAYLIGHT
BEGIN:STANDARD
TZOFFSETFROM:-0400
TZOFFSETTO:-0500
TZNAME:EST
DTSTART:20181104T060000
END:STANDARD
END:VTIMEZONE
BEGIN:VEVENT
DTSTART;TZID=America/New_York:20180913T210000
DTEND;TZID=America/New_York:20180913T220000
DTSTAMP:20260421T104741
CREATED:20180905T191735Z
LAST-MODIFIED:20180905T191735Z
UID:17553-1536872400-1536876000@uo.com
SUMMARY:Atlantic - Locating the Cave
DESCRIPTION:Maxwell is asking for your help on questioning a few of his old shipmates
URL:https://uo.com/event/atlantic-locating-the-cave/
LOCATION:New Haven Bank
CATEGORIES:EM Event
END:VEVENT
END:VCALENDAR