BEGIN:VCALENDAR
VERSION:2.0
PRODID:-//Ultima Online - ECPv5.16.4.1//NONSGML v1.0//EN
CALSCALE:GREGORIAN
METHOD:PUBLISH
X-WR-CALNAME:Ultima Online
X-ORIGINAL-URL:https://uo.com
X-WR-CALDESC:Events for Ultima Online
BEGIN:VTIMEZONE
TZID:America/New_York
BEGIN:DAYLIGHT
TZOFFSETFROM:-0500
TZOFFSETTO:-0400
TZNAME:EDT
DTSTART:20180311T070000
END:DAYLIGHT
BEGIN:STANDARD
TZOFFSETFROM:-0400
TZOFFSETTO:-0500
TZNAME:EST
DTSTART:20181104T060000
END:STANDARD
TZID:Asia/Seoul
BEGIN:STANDARD
TZOFFSETFROM:+0900
TZOFFSETTO:+0900
TZNAME:KST
DTSTART:20180101T000000
END:STANDARD
TZID:America/Chicago
BEGIN:DAYLIGHT
TZOFFSETFROM:-0600
TZOFFSETTO:-0500
TZNAME:CDT
DTSTART:20180311T080000
END:DAYLIGHT
BEGIN:STANDARD
TZOFFSETFROM:-0500
TZOFFSETTO:-0600
TZNAME:CST
DTSTART:20181104T070000
END:STANDARD
TZID:Europe/London
BEGIN:DAYLIGHT
TZOFFSETFROM:+0000
TZOFFSETTO:+0100
TZNAME:BST
DTSTART:20180325T010000
END:DAYLIGHT
BEGIN:STANDARD
TZOFFSETFROM:+0100
TZOFFSETTO:+0000
TZNAME:GMT
DTSTART:20181028T010000
END:STANDARD
END:VTIMEZONE
BEGIN:VEVENT
DTSTART;TZID=America/New_York:20180915T170000
DTEND;TZID=America/New_York:20180915T210000
DTSTAMP:20260421T104741
CREATED:20180901T190311Z
LAST-MODIFIED:20180901T190311Z
UID:17500-1537030800-1537045200@uo.com
SUMMARY:Siege - Treasure Hunt
DESCRIPTION:Once again\, it’s time to go and dig up some rare treasure maps! \nSo\, gather at the hall\, ready to get some good loot\, perhaps tame a new pet\, and generally have fun! \nI have high-end maps for Fel\, Ilsh\, Malas\, Ter Mur\, and Tokuno! Come and join in!
URL:https://uo.com/event/siege-treasure-hunt-3/
CATEGORIES:EM Event
END:VEVENT
BEGIN:VEVENT
DTSTART;TZID=Asia/Seoul:20180915T200000
DTEND;TZID=Asia/Seoul:20180915T210000
DTSTAMP:20260421T104741
CREATED:20180831T040907Z
LAST-MODIFIED:20180831T040907Z
UID:17475-1537041600-1537045200@uo.com
SUMMARY:Arirang - The Fallen
DESCRIPTION:Event Schedule\nDate/Time: September 15th\, 2018 08:00PM KST \nMeeting Place: Britain EM Hall \nEvent Story\nThe Inquisition was inciting riots in towns to hide their plan to get some sort of item. Francis the monk found out part of it\, but failed the detail. Furthermore\, he heard that Alberich the Royal Inspector is cooperating with them\, but it is uncertain. Francis decides to return to the capital\, Britain\, to report what he found so far. \nCaution!\nWe’re expecting battle in this event\, please insure your precious items or leave them to your bank box. Event time is not that long so we’ll start it right in time. \nWarning\nIf anyone disrupt the event\, spamming\, insulting\, and harassing others or EM\, event will be stopped until the situation is handled. Please be advice that any inappropriate behavior will noted to your account\, and some of them can be fatal. EM will trying to hear your suggestion\, complain\, question\, and feedback willingly. Even though EM willing to hear and deal with the issue\, please note that there are some things that EM cannot deal with. \nEvent Chat Channel\nDuring the event\, we’ll use “Arirang EM Event” chat channel. To communicate with EM\, it is highly recommended to join the channel. EM will not take any responsibility for any penalties of information because of this.
URL:https://uo.com/event/arirang-the-fallen/
LOCATION:Arirang
CATEGORIES:EM Event
END:VEVENT
BEGIN:VEVENT
DTSTART;TZID=America/Chicago:20180915T200000
DTEND;TZID=America/Chicago:20180915T210000
DTSTAMP:20260421T104741
CREATED:20180908T191344Z
LAST-MODIFIED:20180908T191344Z
UID:17587-1537041600-1537045200@uo.com
SUMMARY:Lake Austin - Town Hall Meeting
DESCRIPTION:Saturday\, September 15th – 8 pm Central Time – Town Hall Meeting – Everyone invited! We meet in the EM Hall and chat about shard events and concerns. If you play on Lake Austin I hope you are able to attend!!
URL:https://uo.com/event/lake-austin-town-hall-meeting-2/
CATEGORIES:EM Event
END:VEVENT
BEGIN:VEVENT
DTSTART;TZID=Europe/London:20180915T203000
DTEND;TZID=Europe/London:20180915T213000
DTSTAMP:20260421T104741
CREATED:20180902T103857Z
LAST-MODIFIED:20180902T103857Z
UID:17515-1537043400-1537047000@uo.com
SUMMARY:Europa - The Riddle Masters
DESCRIPTION:Are you fast and smart enough? solve the Riddles of the Demonic Elf! \nThe first three players to accomplish this task will be remembered at EM Hall \nGather at 8.30 PM UK time zone at EM Hall!
URL:https://uo.com/event/europa-the-riddle-masters/
CATEGORIES:EM Event
END:VEVENT
END:VCALENDAR