BEGIN:VCALENDAR
VERSION:2.0
PRODID:-//Ultima Online - ECPv5.16.4.1//NONSGML v1.0//EN
CALSCALE:GREGORIAN
METHOD:PUBLISH
X-WR-CALNAME:Ultima Online
X-ORIGINAL-URL:https://uo.com
X-WR-CALDESC:Events for Ultima Online
BEGIN:VTIMEZONE
TZID:America/Los_Angeles
BEGIN:DAYLIGHT
TZOFFSETFROM:-0800
TZOFFSETTO:-0700
TZNAME:PDT
DTSTART:20180311T100000
END:DAYLIGHT
BEGIN:STANDARD
TZOFFSETFROM:-0700
TZOFFSETTO:-0800
TZNAME:PST
DTSTART:20181104T090000
END:STANDARD
TZID:Europe/London
BEGIN:DAYLIGHT
TZOFFSETFROM:+0000
TZOFFSETTO:+0100
TZNAME:BST
DTSTART:20180325T010000
END:DAYLIGHT
BEGIN:STANDARD
TZOFFSETFROM:+0100
TZOFFSETTO:+0000
TZNAME:GMT
DTSTART:20181028T010000
END:STANDARD
TZID:America/New_York
BEGIN:DAYLIGHT
TZOFFSETFROM:-0500
TZOFFSETTO:-0400
TZNAME:EDT
DTSTART:20180311T070000
END:DAYLIGHT
BEGIN:STANDARD
TZOFFSETFROM:-0400
TZOFFSETTO:-0500
TZNAME:EST
DTSTART:20181104T060000
END:STANDARD
END:VTIMEZONE
BEGIN:VEVENT
DTSTART;TZID=America/Los_Angeles:20180916T180000
DTEND;TZID=America/Los_Angeles:20180916T183000
DTSTAMP:20260421T104756
CREATED:20180829T193332Z
LAST-MODIFIED:20180829T193332Z
UID:17460-1537120800-1537122600@uo.com
SUMMARY:Origin ~ The King’s Meeting
DESCRIPTION:
URL:https://uo.com/event/origin-the-kings-meeting-12/
LOCATION:Blackthorn Castle meeting room
CATEGORIES:EM Event
END:VEVENT
BEGIN:VEVENT
DTSTART;TZID=America/Los_Angeles:20180916T183000
DTEND;TZID=America/Los_Angeles:20180916T193000
DTSTAMP:20260421T104756
CREATED:20180829T193946Z
LAST-MODIFIED:20180829T193946Z
UID:17463-1537122600-1537126200@uo.com
SUMMARY:Origin Royal Guard ~ Summer Graduation
DESCRIPTION:
URL:https://uo.com/event/origin-royal-guard-summer-graduation-3/
LOCATION:Blackthorn Castle meeting room
CATEGORIES:EM Event
END:VEVENT
BEGIN:VEVENT
DTSTART;TZID=Europe/London:20180916T203000
DTEND;TZID=Europe/London:20180916T213000
DTSTAMP:20260421T104756
CREATED:20180902T103958Z
LAST-MODIFIED:20180902T103958Z
UID:17517-1537129800-1537133400@uo.com
SUMMARY:Europa - King Of Greed
DESCRIPTION:Gather at EM Hall 8.30 PM UK time zone
URL:https://uo.com/event/europa-king-of-greed/
CATEGORIES:EM Event
END:VEVENT
BEGIN:VEVENT
DTSTART;TZID=America/New_York:20180916T220000
DTEND;TZID=America/New_York:20180916T230000
DTSTAMP:20260421T104756
CREATED:20180906T154310Z
LAST-MODIFIED:20180906T154310Z
UID:17566-1537135200-1537138800@uo.com
SUMMARY:Sonoma - Governors Meeting
DESCRIPTION:Governors Meeting will start at 7PM PDT!
URL:https://uo.com/event/sonoma-governors-meeting-14/
CATEGORIES:EM Event
END:VEVENT
END:VCALENDAR