BEGIN:VCALENDAR
VERSION:2.0
PRODID:-//Ultima Online - ECPv5.16.4.1//NONSGML v1.0//EN
CALSCALE:GREGORIAN
METHOD:PUBLISH
X-WR-CALNAME:Ultima Online
X-ORIGINAL-URL:https://uo.com
X-WR-CALDESC:Events for Ultima Online
BEGIN:VTIMEZONE
TZID:America/New_York
BEGIN:DAYLIGHT
TZOFFSETFROM:-0500
TZOFFSETTO:-0400
TZNAME:EDT
DTSTART:20180311T070000
END:DAYLIGHT
BEGIN:STANDARD
TZOFFSETFROM:-0400
TZOFFSETTO:-0500
TZNAME:EST
DTSTART:20181104T060000
END:STANDARD
TZID:America/Chicago
BEGIN:DAYLIGHT
TZOFFSETFROM:-0600
TZOFFSETTO:-0500
TZNAME:CDT
DTSTART:20180311T080000
END:DAYLIGHT
BEGIN:STANDARD
TZOFFSETFROM:-0500
TZOFFSETTO:-0600
TZNAME:CST
DTSTART:20181104T070000
END:STANDARD
END:VTIMEZONE
BEGIN:VEVENT
DTSTART;TZID=America/New_York:20180918T190000
DTEND;TZID=America/New_York:20180918T203000
DTSTAMP:20260421T104635
CREATED:20180902T223448Z
LAST-MODIFIED:20180902T223448Z
UID:17523-1537297200-1537302600@uo.com
SUMMARY:Catskills - Governors Meeting
DESCRIPTION:Governors to meet at Castle Blackthorn!
URL:https://uo.com/event/catskills-governors-meeting-24/
LOCATION:Catskills
CATEGORIES:EM Event
END:VEVENT
BEGIN:VEVENT
DTSTART;TZID=America/Chicago:20180918T200000
DTEND;TZID=America/Chicago:20180918T200000
DTSTAMP:20260421T104635
CREATED:20180903T183732Z
LAST-MODIFIED:20180903T183732Z
UID:17535-1537300800-1537300800@uo.com
SUMMARY:Great Lakes - Royal Spy Mission
DESCRIPTION:This Royal Spy mission has the codename “Grinning Skull”. To attend\, go to the Britain Counselor Hall and investigate the suit of armor.
URL:https://uo.com/event/great-lakes-royal-spy-mission-80/
LOCATION:Great Lakes – Counselor Hall
CATEGORIES:EM Event
END:VEVENT
END:VCALENDAR