BEGIN:VCALENDAR
VERSION:2.0
PRODID:-//Ultima Online - ECPv5.16.4.1//NONSGML v1.0//EN
CALSCALE:GREGORIAN
METHOD:PUBLISH
X-WR-CALNAME:Ultima Online
X-ORIGINAL-URL:https://uo.com
X-WR-CALDESC:Events for Ultima Online
BEGIN:VTIMEZONE
TZID:America/New_York
BEGIN:DAYLIGHT
TZOFFSETFROM:-0500
TZOFFSETTO:-0400
TZNAME:EDT
DTSTART:20180311T070000
END:DAYLIGHT
BEGIN:STANDARD
TZOFFSETFROM:-0400
TZOFFSETTO:-0500
TZNAME:EST
DTSTART:20181104T060000
END:STANDARD
TZID:Asia/Tokyo
BEGIN:STANDARD
TZOFFSETFROM:+0900
TZOFFSETTO:+0900
TZNAME:JST
DTSTART:20180101T000000
END:STANDARD
END:VTIMEZONE
BEGIN:VEVENT
DTSTART;TZID=America/New_York:20180920T200000
DTEND;TZID=America/New_York:20180920T210000
DTSTAMP:20260421T104627
CREATED:20180903T201006Z
LAST-MODIFIED:20180903T201006Z
UID:17541-1537473600-1537477200@uo.com
SUMMARY:Legends - A Trail Of Sorrow II [RP]
DESCRIPTION:On Thursday\, September 20th at 8:00 PM EST\, meet at the Rangers Guild Hall in Skara Brae.\nNote: This event will have roleplay\, moderate combat\, no reward.
URL:https://uo.com/event/legends-a-trail-of-sorrow-ii-rp/
LOCATION:Legends
CATEGORIES:EM Event
END:VEVENT
BEGIN:VEVENT
DTSTART;TZID=America/New_York:20180920T210000
DTEND;TZID=America/New_York:20180920T220000
DTSTAMP:20260421T104627
CREATED:20180905T192023Z
LAST-MODIFIED:20180905T192023Z
UID:17555-1537477200-1537480800@uo.com
SUMMARY:Atlantic - Locating the Cave part 2
DESCRIPTION:After questioning his shipmates\, Maxwell puts together the clues on what he has learned to lead us to the cave
URL:https://uo.com/event/atlantic-locating-the-cave-part-2/
LOCATION:New Haven Bank
CATEGORIES:EM Event
END:VEVENT
BEGIN:VEVENT
DTSTART;TZID=Asia/Tokyo:20180920T220000
DTEND;TZID=Asia/Tokyo:20180920T230000
DTSTAMP:20260421T104627
CREATED:20180807T135557Z
LAST-MODIFIED:20180807T135557Z
UID:17310-1537480800-1537484400@uo.com
SUMMARY:Yamato - Britannian Avengers (RP Mini Event)
DESCRIPTION:TBD
URL:https://uo.com/event/yamato-britannian-avengers-rp-mini-event/
LOCATION:TBD
CATEGORIES:EM Event
END:VEVENT
END:VCALENDAR