BEGIN:VCALENDAR
VERSION:2.0
PRODID:-//Ultima Online - ECPv5.16.4.1//NONSGML v1.0//EN
CALSCALE:GREGORIAN
METHOD:PUBLISH
X-WR-CALNAME:Ultima Online
X-ORIGINAL-URL:https://uo.com
X-WR-CALDESC:Events for Ultima Online
BEGIN:VTIMEZONE
TZID:America/New_York
BEGIN:DAYLIGHT
TZOFFSETFROM:-0500
TZOFFSETTO:-0400
TZNAME:EDT
DTSTART:20180311T070000
END:DAYLIGHT
BEGIN:STANDARD
TZOFFSETFROM:-0400
TZOFFSETTO:-0500
TZNAME:EST
DTSTART:20181104T060000
END:STANDARD
TZID:America/Los_Angeles
BEGIN:DAYLIGHT
TZOFFSETFROM:-0800
TZOFFSETTO:-0700
TZNAME:PDT
DTSTART:20180311T100000
END:DAYLIGHT
BEGIN:STANDARD
TZOFFSETFROM:-0700
TZOFFSETTO:-0800
TZNAME:PST
DTSTART:20181104T090000
END:STANDARD
END:VTIMEZONE
BEGIN:VEVENT
DTSTART;TZID=America/New_York:20180927T200000
DTEND;TZID=America/New_York:20180927T210000
DTSTAMP:20260421T104634
CREATED:20180903T201044Z
LAST-MODIFIED:20180903T201044Z
UID:17543-1538078400-1538082000@uo.com
SUMMARY:Legends - A Trail Of Sorrow III [R]
DESCRIPTION:On Thursday\, September 27th at 8:00 PM EST\, meet at the Rangers Guild Hall in Skara Brae.\nNote: This event will have some roleplay\, heavy combat and a reward.
URL:https://uo.com/event/legends-a-trail-of-sorrow-iii-r/
LOCATION:Legends
CATEGORIES:EM Event
END:VEVENT
BEGIN:VEVENT
DTSTART;TZID=America/Los_Angeles:20180927T200000
DTEND;TZID=America/Los_Angeles:20180927T210000
DTSTAMP:20260421T104634
CREATED:20180918T014457Z
LAST-MODIFIED:20180918T014457Z
UID:17734-1538078400-1538082000@uo.com
SUMMARY:Baja - Governor's Meeting
DESCRIPTION:King Blackthorn invites all to attend September’s Governor meeting!
URL:https://uo.com/event/baja-governors-meeting-14/
LOCATION:King Blackthorns Castle
CATEGORIES:EM Event
END:VEVENT
BEGIN:VEVENT
DTSTART;TZID=America/New_York:20180927T210000
DTEND;TZID=America/New_York:20180927T220000
DTSTAMP:20260421T104634
CREATED:20180905T191342Z
LAST-MODIFIED:20180905T191342Z
UID:17551-1538082000-1538085600@uo.com
SUMMARY:Atlantic - Governors Meeting
DESCRIPTION:This is for the Governors and all the citizens of Britannia\, everyone is welcome to attend.
URL:https://uo.com/event/atlantic-governors-meeting-4/
LOCATION:Blackthorn Castle
CATEGORIES:EM Event
END:VEVENT
END:VCALENDAR