BEGIN:VCALENDAR
VERSION:2.0
PRODID:-//Ultima Online - ECPv5.16.4.1//NONSGML v1.0//EN
CALSCALE:GREGORIAN
METHOD:PUBLISH
X-WR-CALNAME:Ultima Online
X-ORIGINAL-URL:https://uo.com
X-WR-CALDESC:Events for Ultima Online
BEGIN:VTIMEZONE
TZID:America/Los_Angeles
BEGIN:DAYLIGHT
TZOFFSETFROM:-0800
TZOFFSETTO:-0700
TZNAME:PDT
DTSTART:20180311T100000
END:DAYLIGHT
BEGIN:STANDARD
TZOFFSETFROM:-0700
TZOFFSETTO:-0800
TZNAME:PST
DTSTART:20181104T090000
END:STANDARD
TZID:Asia/Taipei
BEGIN:STANDARD
TZOFFSETFROM:+0800
TZOFFSETTO:+0800
TZNAME:CST
DTSTART:20180101T000000
END:STANDARD
TZID:Asia/Tokyo
BEGIN:STANDARD
TZOFFSETFROM:+0900
TZOFFSETTO:+0900
TZNAME:JST
DTSTART:20180101T000000
END:STANDARD
END:VTIMEZONE
BEGIN:VEVENT
DTSTART;TZID=America/Los_Angeles:20180928T190000
DTEND;TZID=America/Los_Angeles:20180928T200000
DTSTAMP:20260421T104626
CREATED:20180829T194415Z
LAST-MODIFIED:20180829T194415Z
UID:17465-1538161200-1538164800@uo.com
SUMMARY:Origin ~ Have Gear Will Travel #37: - Skull & Crossbones - *Felucca*
DESCRIPTION:
URL:https://uo.com/event/origin-have-gear-will-travel-37-skull-crossbones-felucca/
LOCATION:Luna Stables (meet at)
CATEGORIES:EM Event
END:VEVENT
BEGIN:VEVENT
DTSTART;TZID=Asia/Taipei:20180928T210000
DTEND;TZID=Asia/Taipei:20180928T220000
DTSTAMP:20260421T104626
CREATED:20180924T163242Z
LAST-MODIFIED:20180924T163242Z
UID:17767-1538168400-1538172000@uo.com
SUMMARY:Formosa Mid Autumn Festival
DESCRIPTION:Formosa Britain EM Hall
URL:https://uo.com/event/formosa-mid-autumn-festival/
LOCATION:Formosa Britain EM Hall
CATEGORIES:EM Event
END:VEVENT
BEGIN:VEVENT
DTSTART;TZID=Asia/Tokyo:20180928T220000
DTEND;TZID=Asia/Tokyo:20180928T220000
DTSTAMP:20260421T104626
CREATED:20180914T145203Z
LAST-MODIFIED:20180914T153021Z
UID:17684-1538172000-1538172000@uo.com
SUMMARY:Mizuho - Mini Event
DESCRIPTION:Chat: Mizuho EM Event
URL:https://uo.com/event/mizuho-event-18/
CATEGORIES:EM Event
END:VEVENT
END:VCALENDAR