BEGIN:VCALENDAR
VERSION:2.0
PRODID:-//Ultima Online - ECPv5.16.4.1//NONSGML v1.0//EN
CALSCALE:GREGORIAN
METHOD:PUBLISH
X-WR-CALNAME:Ultima Online
X-ORIGINAL-URL:https://uo.com
X-WR-CALDESC:Events for Ultima Online
BEGIN:VTIMEZONE
TZID:America/Los_Angeles
BEGIN:DAYLIGHT
TZOFFSETFROM:-0800
TZOFFSETTO:-0700
TZNAME:PDT
DTSTART:20180311T100000
END:DAYLIGHT
BEGIN:STANDARD
TZOFFSETFROM:-0700
TZOFFSETTO:-0800
TZNAME:PST
DTSTART:20181104T090000
END:STANDARD
TZID:Europe/London
BEGIN:DAYLIGHT
TZOFFSETFROM:+0000
TZOFFSETTO:+0100
TZNAME:BST
DTSTART:20180325T010000
END:DAYLIGHT
BEGIN:STANDARD
TZOFFSETFROM:+0100
TZOFFSETTO:+0000
TZNAME:GMT
DTSTART:20181028T010000
END:STANDARD
TZID:Europe/Berlin
BEGIN:DAYLIGHT
TZOFFSETFROM:+0100
TZOFFSETTO:+0200
TZNAME:CEST
DTSTART:20180325T010000
END:DAYLIGHT
BEGIN:STANDARD
TZOFFSETFROM:+0200
TZOFFSETTO:+0100
TZNAME:CET
DTSTART:20181028T010000
END:STANDARD
TZID:Asia/Tokyo
BEGIN:STANDARD
TZOFFSETFROM:+0900
TZOFFSETTO:+0900
TZNAME:JST
DTSTART:20180101T000000
END:STANDARD
END:VTIMEZONE
BEGIN:VEVENT
DTSTART;TZID=America/Los_Angeles:20181007T180000
DTEND;TZID=America/Los_Angeles:20181007T193000
DTSTAMP:20260421T085852
CREATED:20181003T014522Z
LAST-MODIFIED:20181003T014522Z
UID:17869-1538935200-1538940600@uo.com
SUMMARY:Origin ~ Fireside Chat & Zig’s *Mini Monster Mash*!
DESCRIPTION:
URL:https://uo.com/event/origin-fireside-chat-zigs-mini-monster-mash-8/
LOCATION:Gates at W. Britain\, Haven & Luna Banks
CATEGORIES:EM Event
END:VEVENT
BEGIN:VEVENT
DTSTART;TZID=Europe/London:20181007T203000
DTEND;TZID=Europe/London:20181007T213000
DTSTAMP:20260421T085852
CREATED:20180926T193803Z
LAST-MODIFIED:20180926T193803Z
UID:17789-1538944200-1538947800@uo.com
SUMMARY:Europa - The Winter of Evil
DESCRIPTION:Gather at 8.30 PM UK time zone at EM Hall ( Main event ) \n  \n 
URL:https://uo.com/event/europa-the-winter-of-evil/
CATEGORIES:EM Event
END:VEVENT
BEGIN:VEVENT
DTSTART;TZID=Europe/Berlin:20181007T203000
DTEND;TZID=Europe/Berlin:20181007T213000
DTSTAMP:20260421T085852
CREATED:20181002T205539Z
LAST-MODIFIED:20181002T205539Z
UID:17861-1538944200-1538947800@uo.com
SUMMARY:Drachenfels: Zibalba's Excursion (HoF/RP)
DESCRIPTION:Time: 8:30pm CEST (UTC+2). Location: EM Reward Museum\, Malas.\nMini Event: Zibalba wants to take you on an adventure on the water tonight – he doesn’t want to find anyone else but Osiredon! Come well prepared!\nLocation: Meet at EM Reward Hall\, Malas. \nZeit: 20:30 Uhr CEST (UTC+2). Ort: EM Reward Museum\, Malas.\nMini Event: Zibalba will euch heute Abend auf ein Abenteuer auf dem Wasser mitnehmen – niemand anderen als Osiredon will er aufspüren! Kommt gut vorbereitet!
URL:https://uo.com/event/drachenfels-zibalbas-excursion-hof-rp-4/
LOCATION:Drachenfels
CATEGORIES:EM Event
END:VEVENT
BEGIN:VEVENT
DTSTART;TZID=Asia/Tokyo:20181007T220000
DTEND;TZID=Asia/Tokyo:20181007T220000
DTSTAMP:20260421T085852
CREATED:20180915T055232Z
LAST-MODIFIED:20180915T055232Z
UID:17706-1538949600-1538949600@uo.com
SUMMARY:Sakura - Mini Event
DESCRIPTION:TBD
URL:https://uo.com/event/sakura-mini-event-11/
LOCATION:Sakura – EM Hall\, Japan
CATEGORIES:EM Event
END:VEVENT
END:VCALENDAR