BEGIN:VCALENDAR
VERSION:2.0
PRODID:-//Ultima Online - ECPv5.16.4.1//NONSGML v1.0//EN
CALSCALE:GREGORIAN
METHOD:PUBLISH
X-WR-CALNAME:Ultima Online
X-ORIGINAL-URL:https://uo.com
X-WR-CALDESC:Events for Ultima Online
BEGIN:VTIMEZONE
TZID:America/Los_Angeles
BEGIN:DAYLIGHT
TZOFFSETFROM:-0800
TZOFFSETTO:-0700
TZNAME:PDT
DTSTART:20180311T100000
END:DAYLIGHT
BEGIN:STANDARD
TZOFFSETFROM:-0700
TZOFFSETTO:-0800
TZNAME:PST
DTSTART:20181104T090000
END:STANDARD
TZID:America/New_York
BEGIN:DAYLIGHT
TZOFFSETFROM:-0500
TZOFFSETTO:-0400
TZNAME:EDT
DTSTART:20180311T070000
END:DAYLIGHT
BEGIN:STANDARD
TZOFFSETFROM:-0400
TZOFFSETTO:-0500
TZNAME:EST
DTSTART:20181104T060000
END:STANDARD
END:VTIMEZONE
BEGIN:VEVENT
DTSTART;TZID=America/Los_Angeles:20181024T190000
DTEND;TZID=America/Los_Angeles:20181024T200000
DTSTAMP:20260421T085950
CREATED:20181017T041703Z
LAST-MODIFIED:20181017T041703Z
UID:18004-1540407600-1540411200@uo.com
SUMMARY:Kings Meeting - *Pacific*
DESCRIPTION:
URL:https://uo.com/event/kings-meeting-pacific-3/
LOCATION:Castle Blackthorn Governors Hall
CATEGORIES:EM Event
END:VEVENT
BEGIN:VEVENT
DTSTART;TZID=America/New_York:20181024T200000
DTEND;TZID=America/New_York:20181024T210000
DTSTAMP:20260421T085950
CREATED:20181011T233648Z
LAST-MODIFIED:20181011T234004Z
UID:17962-1540411200-1540414800@uo.com
SUMMARY:LS - Royal Council Meeting
DESCRIPTION:King Blackthorn hereby requests the attendance of all governors for a Royal Council meeting at 8pm on Wed. Oct. 24th! \n(Lake Superior) \n 
URL:https://uo.com/event/ls-royal-council-meeting/
LOCATION:Castle Blackthorn Governors Hall
CATEGORIES:EM Event
END:VEVENT
BEGIN:VEVENT
DTSTART;TZID=America/New_York:20181024T210000
DTEND;TZID=America/New_York:20181024T220000
DTSTAMP:20260421T085950
CREATED:20181004T025444Z
LAST-MODIFIED:20181004T025702Z
UID:17887-1540414800-1540418400@uo.com
SUMMARY:Chesapeake - Showdown
DESCRIPTION:The Royal Britannian Guard needs your help! The newest leader “Angelique” is enlisting the aid of the RGB to continue on a very sensitive mission that required your sleuthing skills! Please meet her at the Britain Guard Post just outside of West Brit Bank! Gates will be provided outside of Britain and Luna for those that need it! Best of luck!
URL:https://uo.com/event/chesapeake-showdown-10-24-18-9pm-est/
CATEGORIES:EM Event
END:VEVENT
BEGIN:VEVENT
DTSTART;TZID=America/New_York:20181024T210000
DTEND;TZID=America/New_York:20181024T220000
DTSTAMP:20260421T085950
CREATED:20181016T012935Z
LAST-MODIFIED:20181016T012935Z
UID:17996-1540414800-1540418400@uo.com
SUMMARY:Atlantic - The Omen Of Shame
DESCRIPTION:Hiwyn the Archmage needs your help investigating a mysterious Blackrock Pentagram!
URL:https://uo.com/event/atlantic-the-omen-of-shame/
LOCATION:Meet At Counselor Hall
CATEGORIES:EM Event
END:VEVENT
END:VCALENDAR