BEGIN:VCALENDAR
VERSION:2.0
PRODID:-//Ultima Online - ECPv5.16.4.1//NONSGML v1.0//EN
CALSCALE:GREGORIAN
METHOD:PUBLISH
X-WR-CALNAME:Ultima Online
X-ORIGINAL-URL:https://uo.com
X-WR-CALDESC:Events for Ultima Online
BEGIN:VTIMEZONE
TZID:America/Los_Angeles
BEGIN:DAYLIGHT
TZOFFSETFROM:-0800
TZOFFSETTO:-0700
TZNAME:PDT
DTSTART:20180311T100000
END:DAYLIGHT
BEGIN:STANDARD
TZOFFSETFROM:-0700
TZOFFSETTO:-0800
TZNAME:PST
DTSTART:20181104T090000
END:STANDARD
TZID:Asia/Seoul
BEGIN:STANDARD
TZOFFSETFROM:+0900
TZOFFSETTO:+0900
TZNAME:KST
DTSTART:20180101T000000
END:STANDARD
TZID:Europe/London
BEGIN:DAYLIGHT
TZOFFSETFROM:+0000
TZOFFSETTO:+0100
TZNAME:BST
DTSTART:20180325T010000
END:DAYLIGHT
BEGIN:STANDARD
TZOFFSETFROM:+0100
TZOFFSETTO:+0000
TZNAME:GMT
DTSTART:20181028T010000
END:STANDARD
TZID:America/New_York
BEGIN:DAYLIGHT
TZOFFSETFROM:-0500
TZOFFSETTO:-0400
TZNAME:EDT
DTSTART:20180311T070000
END:DAYLIGHT
BEGIN:STANDARD
TZOFFSETFROM:-0400
TZOFFSETTO:-0500
TZNAME:EST
DTSTART:20181104T060000
END:STANDARD
TZID:Asia/Tokyo
BEGIN:STANDARD
TZOFFSETFROM:+0900
TZOFFSETTO:+0900
TZNAME:JST
DTSTART:20180101T000000
END:STANDARD
END:VTIMEZONE
BEGIN:VEVENT
DTSTART;TZID=America/Los_Angeles:20181027T190000
DTEND;TZID=America/Los_Angeles:20181027T200000
DTSTAMP:20260421T090131
CREATED:20181017T041826Z
LAST-MODIFIED:20181017T041826Z
UID:18006-1540666800-1540670400@uo.com
SUMMARY:The King's Army - *Pacific*
DESCRIPTION:
URL:https://uo.com/event/the-kings-army-pacific/
LOCATION:Castle Blackthorn Courtyard
CATEGORIES:EM Event
END:VEVENT
BEGIN:VEVENT
DTSTART;TZID=Asia/Seoul:20181027T200000
DTEND;TZID=Asia/Seoul:20181027T210000
DTSTAMP:20260421T090131
CREATED:20181003T102347Z
LAST-MODIFIED:20181003T102347Z
UID:17883-1540670400-1540674000@uo.com
SUMMARY:Arirang - Mashijang
DESCRIPTION:Event Schedule \nDate/Time: October 27th\, 2018 08:00PM KST\nMeeting Place: Britain EM Hall \nCaution! \nThis is non-reward event\, but the competition event.\nThe time for community has come! Mashijang was long traditional event in Korean shards. An animal trainer host this event for animals he trained became popular market event. Although there are lots of personal vendors\, but can’t compare pleasure between just NPC and real player. Visit the Mashijang where you can have lots of funs and joy\, even free meal! \nWarning \nIf anyone disrupt the event\, spamming\, insulting\, and harassing others or EM\, event will be stopped until the situation is handled. Please be advice that any inappropriate behavior will noted to your account\, and some of them can be fatal. EM will trying to hear your suggestion\, complain\, question\, and feedback willingly. Even though EM willing to hear and deal with the issue\, please note that there are some things that EM cannot deal with. \nEvent Chat Channel \nDuring the event\, we’ll use “Arirang EM Event” chat channel. To communicate with EM\, it is highly recommended to join the channel. EM will not take any responsibility for any penalties of information because of this.
URL:https://uo.com/event/arirang-mashijang/
LOCATION:Arirang
CATEGORIES:EM Event
END:VEVENT
BEGIN:VEVENT
DTSTART;TZID=Europe/London:20181027T203000
DTEND;TZID=Europe/London:20181027T213000
DTSTAMP:20260421T090131
CREATED:20180926T194026Z
LAST-MODIFIED:20180926T194026Z
UID:17791-1540672200-1540675800@uo.com
SUMMARY:Europa - Halloween of Horrors
DESCRIPTION:Gather at 8.30 PM UK time zone – Scary monsters have come a long way…directly to Europa…our Halloween will be really scary this year! \n 
URL:https://uo.com/event/europa-halloween-of-horrors/
CATEGORIES:EM Event
END:VEVENT
BEGIN:VEVENT
DTSTART;TZID=America/New_York:20181027T210000
DTEND;TZID=America/New_York:20181027T220000
DTSTAMP:20260421T090131
CREATED:20181011T011320Z
LAST-MODIFIED:20181011T013813Z
UID:17945-1540674000-1540677600@uo.com
SUMMARY:LA - A Howling Good Time
DESCRIPTION:Are there werewolves in Skara Brae? Our brave citizens go there to investigate and eradicate the threat! \nMeet at the EM Hall at 9PM Eastern\nTransportation provided from Luna bank and WBB\nYou will need your weapons!
URL:https://uo.com/event/la-a-howling-good-time/
CATEGORIES:EM Event
END:VEVENT
BEGIN:VEVENT
DTSTART;TZID=Asia/Tokyo:20181027T220000
DTEND;TZID=Asia/Tokyo:20181027T230000
DTSTAMP:20260421T090131
CREATED:20180914T145920Z
LAST-MODIFIED:20180914T145920Z
UID:17692-1540677600-1540681200@uo.com
SUMMARY:Mizuho - The Council Meeting With The King
DESCRIPTION:The monthly governor’s meeting with King Blackthorn. Everyone is invited.
URL:https://uo.com/event/mizuho-the-council-meeting-with-the-king-24/
CATEGORIES:EM Event
END:VEVENT
BEGIN:VEVENT
DTSTART;TZID=Asia/Tokyo:20181027T220000
DTEND;TZID=Asia/Tokyo:20181027T220000
DTSTAMP:20260421T090131
CREATED:20180926T131116Z
LAST-MODIFIED:20180926T131116Z
UID:17784-1540677600-1540677600@uo.com
SUMMARY:Asuka - Mini Event
DESCRIPTION:TBD
URL:https://uo.com/event/asuka-mini-event-7/
LOCATION:Asuka EM Hall
CATEGORIES:EM Event
END:VEVENT
END:VCALENDAR