BEGIN:VCALENDAR
VERSION:2.0
PRODID:-//Ultima Online - ECPv5.16.4.1//NONSGML v1.0//EN
CALSCALE:GREGORIAN
METHOD:PUBLISH
X-WR-CALNAME:Ultima Online
X-ORIGINAL-URL:https://uo.com
X-WR-CALDESC:Events for Ultima Online
BEGIN:VTIMEZONE
TZID:America/Los_Angeles
BEGIN:DAYLIGHT
TZOFFSETFROM:-0800
TZOFFSETTO:-0700
TZNAME:PDT
DTSTART:20180311T100000
END:DAYLIGHT
BEGIN:STANDARD
TZOFFSETFROM:-0700
TZOFFSETTO:-0800
TZNAME:PST
DTSTART:20181104T090000
END:STANDARD
TZID:America/New_York
BEGIN:DAYLIGHT
TZOFFSETFROM:-0500
TZOFFSETTO:-0400
TZNAME:EDT
DTSTART:20180311T070000
END:DAYLIGHT
BEGIN:STANDARD
TZOFFSETFROM:-0400
TZOFFSETTO:-0500
TZNAME:EST
DTSTART:20181104T060000
END:STANDARD
TZID:America/Chicago
BEGIN:DAYLIGHT
TZOFFSETFROM:-0600
TZOFFSETTO:-0500
TZNAME:CDT
DTSTART:20180311T080000
END:DAYLIGHT
BEGIN:STANDARD
TZOFFSETFROM:-0500
TZOFFSETTO:-0600
TZNAME:CST
DTSTART:20181104T070000
END:STANDARD
TZID:Europe/Berlin
BEGIN:DAYLIGHT
TZOFFSETFROM:+0100
TZOFFSETTO:+0200
TZNAME:CEST
DTSTART:20180325T010000
END:DAYLIGHT
BEGIN:STANDARD
TZOFFSETFROM:+0200
TZOFFSETTO:+0100
TZNAME:CET
DTSTART:20181028T010000
END:STANDARD
END:VTIMEZONE
BEGIN:VEVENT
DTSTART;TZID=America/Los_Angeles:20181030T190000
DTEND;TZID=America/Los_Angeles:20181030T203000
DTSTAMP:20260421T072440
CREATED:20181003T020444Z
LAST-MODIFIED:20181027T034305Z
UID:17879-1540926000-1540931400@uo.com
SUMMARY:Origin ~ A HAUNTING WE WILL GO ...
DESCRIPTION:
URL:https://uo.com/event/origin-a-haunting-we-will-go/
LOCATION:Gates at W. Britain\, Haven & Luna Banks
CATEGORIES:EM Event
END:VEVENT
BEGIN:VEVENT
DTSTART;TZID=America/New_York:20181030T190000
DTEND;TZID=America/New_York:20181030T210000
DTSTAMP:20260421T072440
CREATED:20181005T210916Z
LAST-MODIFIED:20181005T211206Z
UID:17903-1540926000-1540933200@uo.com
SUMMARY:Catskills - The Forgotten
DESCRIPTION:Commander Brodgar calls upon the RBG to gather!
URL:https://uo.com/event/catskills-the-forgotten-43/
LOCATION:Catskills
CATEGORIES:EM Event
END:VEVENT
BEGIN:VEVENT
DTSTART;TZID=America/Los_Angeles:20181030T190000
DTEND;TZID=America/Los_Angeles:20181030T200000
DTSTAMP:20260421T072440
CREATED:20181007T203237Z
LAST-MODIFIED:20181007T203237Z
UID:17918-1540926000-1540929600@uo.com
SUMMARY:Baja - Governor's Meeting
DESCRIPTION:All are invited to October’s Governor meeting!
URL:https://uo.com/event/baja-governors-meeting-15/
LOCATION:King Blackthorn’s Castle
CATEGORIES:EM Event
END:VEVENT
BEGIN:VEVENT
DTSTART;TZID=America/Chicago:20181030T200000
DTEND;TZID=America/Chicago:20181030T200000
DTSTAMP:20260421T072440
CREATED:20181001T012348Z
LAST-MODIFIED:20181001T031521Z
UID:17849-1540929600-1540929600@uo.com
SUMMARY:Great Lakes - Royal Britannian Guard
DESCRIPTION:This Royal Britannian Guard mission has the codename “The Cache of the Liches”. To attend\, go through the moongate inside the Britain Counselor Hall.
URL:https://uo.com/event/great-lakes-royal-britannian-guard-51/
LOCATION:Great Lakes – Counselor Hall
CATEGORIES:EM Event
END:VEVENT
BEGIN:VEVENT
DTSTART;TZID=Europe/Berlin:20181030T203000
DTEND;TZID=Europe/Berlin:20181030T213000
DTSTAMP:20260421T072440
CREATED:20181002T210915Z
LAST-MODIFIED:20181002T210915Z
UID:17867-1540931400-1540935000@uo.com
SUMMARY:Drachenfels: Royal Audience | Königliche Audienz & HoF Event
DESCRIPTION:Time: 8:30pm CEST (UTC+2).  Location: Castle Blackthorn & EM Reward Museum\, Malas.\nMini HoF (RP) Event: First\, a Royal Audience will be hold.\nAfter that\, Zibalba’s Excursion will lead you on another Treasure Hunt with exciting spots on all facets\, a lot of treasure will be dug up. Newcomers are very welcome\, you may pick some loot to finish your armor. But also\, don’t forget\, come well prepared and able to defend and fight! \nZeit: 20:30 Uhr CEST (UTC+2). Ort: Castle Blackthorn & EM Reward Museum\, Malas.\nMini HoF (RP) Event: Zuerst findet eine Königliche Audienz statt.\nDanach führt euch Zibalba’s Exkursion auf eine weitere aufregende Schatzjagd auf alle Facetten\, viele Schätze werden gehoben werden. Neuankömmlinge sind herzlich willkommen\, ihr könnt euch aus der Beute Sachen aussuchen\, um eure Rüstung zu vollenden. Aber vergesst auch nicht\, kommt gut vorbereitet und seid fähig\, euch zu verteidigen und zu kämpfen!
URL:https://uo.com/event/drachenfels-royal-audience-konigliche-audienz-hof-event-4/
LOCATION:Drachenfels
CATEGORIES:EM Event
END:VEVENT
END:VCALENDAR