BEGIN:VCALENDAR
VERSION:2.0
PRODID:-//Ultima Online - ECPv5.16.4.1//NONSGML v1.0//EN
CALSCALE:GREGORIAN
METHOD:PUBLISH
X-WR-CALNAME:Ultima Online
X-ORIGINAL-URL:https://uo.com
X-WR-CALDESC:Events for Ultima Online
BEGIN:VTIMEZONE
TZID:America/Los_Angeles
BEGIN:DAYLIGHT
TZOFFSETFROM:-0800
TZOFFSETTO:-0700
TZNAME:PDT
DTSTART:20180311T100000
END:DAYLIGHT
BEGIN:STANDARD
TZOFFSETFROM:-0700
TZOFFSETTO:-0800
TZNAME:PST
DTSTART:20181104T090000
END:STANDARD
TZID:Asia/Seoul
BEGIN:STANDARD
TZOFFSETFROM:+0900
TZOFFSETTO:+0900
TZNAME:KST
DTSTART:20180101T000000
END:STANDARD
TZID:Europe/London
BEGIN:DAYLIGHT
TZOFFSETFROM:+0000
TZOFFSETTO:+0100
TZNAME:BST
DTSTART:20180325T010000
END:DAYLIGHT
BEGIN:STANDARD
TZOFFSETFROM:+0100
TZOFFSETTO:+0000
TZNAME:GMT
DTSTART:20181028T010000
END:STANDARD
TZID:Asia/Tokyo
BEGIN:STANDARD
TZOFFSETFROM:+0900
TZOFFSETTO:+0900
TZNAME:JST
DTSTART:20180101T000000
END:STANDARD
END:VTIMEZONE
BEGIN:VEVENT
DTSTART;TZID=America/Los_Angeles:20181110T190000
DTEND;TZID=America/Los_Angeles:20181110T200000
DTSTAMP:20260421T073323
CREATED:20181105T161619Z
LAST-MODIFIED:20181105T161619Z
UID:18182-1541876400-1541880000@uo.com
SUMMARY:Kings Meeting - *Pacific*
DESCRIPTION:
URL:https://uo.com/event/kings-meeting-pacific-4/
LOCATION:Castle Blackthorn Governors Hall
CATEGORIES:EM Event
END:VEVENT
BEGIN:VEVENT
DTSTART;TZID=Asia/Seoul:20181110T200000
DTEND;TZID=Asia/Seoul:20181110T210000
DTSTAMP:20260421T073323
CREATED:20181028T112754Z
LAST-MODIFIED:20181028T113059Z
UID:18075-1541880000-1541883600@uo.com
SUMMARY:Arirang - Spellbind
DESCRIPTION:Event Schedule \nDate/Time: November 10th\, 2018 08:00PM KST\nMeeting Place: Britain EM Hall \nEvent Story \nThe monk and travelers barely managed to stop the Inquisition’s ritual. But it is not finished yet…Britannia still in panic. King Blackthorn summoned travelers who returned to the realm to his castle. \nCaution! \nWe’re expecting battle in this event\, please insure your precious items or leave them to your bank box. Event time is not that long so we’ll start it right in time. \nWarning \nIf anyone disrupt the event\, spamming\, insulting\, and harassing others or EM\, event will be stopped until the situation is handled. Please be advice that any inappropriate behavior will noted to your account\, and some of them can be fatal. EM will trying to hear your suggestion\, complain\, question\, and feedback willingly. Even though EM willing to hear and deal with the issue\, please note that there are some things that EM cannot deal with. \nEvent Chat Channel \nDuring the event\, we’ll use “Arirang EM Event” chat channel. To communicate with EM\, it is highly recommended to join the channel. EM will not take any responsibility for any penalties of information because of this.
URL:https://uo.com/event/arirang-spellbind/
LOCATION:Arirang
CATEGORIES:EM Event
END:VEVENT
BEGIN:VEVENT
DTSTART;TZID=Europe/London:20181110T203000
DTEND;TZID=Europe/London:20181110T213000
DTSTAMP:20260421T073323
CREATED:20181029T171212Z
LAST-MODIFIED:20181106T202959Z
UID:18081-1541881800-1541885400@uo.com
SUMMARY:Europa - The Voodoo Lord
DESCRIPTION:Gather at EM Hall 8.30 PM UK time zone
URL:https://uo.com/event/europa-the-voodoo-lord/
CATEGORIES:EM Event
END:VEVENT
BEGIN:VEVENT
DTSTART;TZID=Asia/Tokyo:20181110T220000
DTEND;TZID=Asia/Tokyo:20181110T220000
DTSTAMP:20260421T073323
CREATED:20181027T050627Z
LAST-MODIFIED:20181027T050627Z
UID:18067-1541887200-1541887200@uo.com
SUMMARY:Asuka – Mini Event
DESCRIPTION:Asuka EM Hall\, \n  \nTBD
URL:https://uo.com/event/asuka-mini-event-8/
CATEGORIES:EM Event
END:VEVENT
END:VCALENDAR