BEGIN:VCALENDAR
VERSION:2.0
PRODID:-//Ultima Online - ECPv5.16.4.1//NONSGML v1.0//EN
CALSCALE:GREGORIAN
METHOD:PUBLISH
X-WR-CALNAME:Ultima Online
X-ORIGINAL-URL:https://uo.com
X-WR-CALDESC:Events for Ultima Online
BEGIN:VTIMEZONE
TZID:America/Los_Angeles
BEGIN:DAYLIGHT
TZOFFSETFROM:-0800
TZOFFSETTO:-0700
TZNAME:PDT
DTSTART:20180311T100000
END:DAYLIGHT
BEGIN:STANDARD
TZOFFSETFROM:-0700
TZOFFSETTO:-0800
TZNAME:PST
DTSTART:20181104T090000
END:STANDARD
TZID:America/Chicago
BEGIN:DAYLIGHT
TZOFFSETFROM:-0600
TZOFFSETTO:-0500
TZNAME:CDT
DTSTART:20180311T080000
END:DAYLIGHT
BEGIN:STANDARD
TZOFFSETFROM:-0500
TZOFFSETTO:-0600
TZNAME:CST
DTSTART:20181104T070000
END:STANDARD
TZID:America/New_York
BEGIN:DAYLIGHT
TZOFFSETFROM:-0500
TZOFFSETTO:-0400
TZNAME:EDT
DTSTART:20180311T070000
END:DAYLIGHT
BEGIN:STANDARD
TZOFFSETFROM:-0400
TZOFFSETTO:-0500
TZNAME:EST
DTSTART:20181104T060000
END:STANDARD
TZID:Asia/Tokyo
BEGIN:STANDARD
TZOFFSETFROM:+0900
TZOFFSETTO:+0900
TZNAME:JST
DTSTART:20180101T000000
END:STANDARD
END:VTIMEZONE
BEGIN:VEVENT
DTSTART;TZID=America/Los_Angeles:20181117T190000
DTEND;TZID=America/Los_Angeles:20181117T200000
DTSTAMP:20260421T073253
CREATED:20181105T161720Z
LAST-MODIFIED:20181105T161720Z
UID:18184-1542481200-1542484800@uo.com
SUMMARY:Twisted Fate - *Pacific*
DESCRIPTION:
URL:https://uo.com/event/twisted-fate-pacific/
LOCATION:Castle Blackthorn Courtyard
CATEGORIES:EM Event
END:VEVENT
BEGIN:VEVENT
DTSTART;TZID=America/Chicago:20181117T200000
DTEND;TZID=America/Chicago:20181117T200000
DTSTAMP:20260421T073253
CREATED:20181104T024721Z
LAST-MODIFIED:20181104T024721Z
UID:18158-1542484800-1542484800@uo.com
SUMMARY:Great Lakes - Royal Spy Mission
DESCRIPTION:This Royal Spy mission has the codename “The Lands of Gnawed Bones”. To attend\, go to the Britain Counselor Hall and investigate the suit of armor.
URL:https://uo.com/event/great-lakes-royal-spy-mission-84/
LOCATION:Great Lakes – Counselor Hall
CATEGORIES:EM Event
END:VEVENT
BEGIN:VEVENT
DTSTART;TZID=America/New_York:20181117T210000
DTEND;TZID=America/New_York:20181117T220000
DTSTAMP:20260421T073253
CREATED:20181111T064904Z
LAST-MODIFIED:20181111T064904Z
UID:18312-1542488400-1542492000@uo.com
SUMMARY:LA- Mystery Event
DESCRIPTION:Saturday\, November 17 – 8PM Central – Mystery Event –  Transportation to the event will be provided from Luna and WBB approximately 30 minutes prior to event
URL:https://uo.com/event/la-mystery-event/
CATEGORIES:EM Event
END:VEVENT
BEGIN:VEVENT
DTSTART;TZID=America/New_York:20181117T220000
DTEND;TZID=America/New_York:20181117T230000
DTSTAMP:20260421T073253
CREATED:20181024T223438Z
LAST-MODIFIED:20181024T223438Z
UID:18057-1542492000-1542495600@uo.com
SUMMARY:Oceania - Call to Arms
DESCRIPTION:Call to Arms \nInquisitor Pierce has petitioned the Crown to muster a force of irregular troops capable of pursuing extraordinary challenges that would shake the courage of even a brave Royal Guardsmen! Do you have what it takes to join the ranks of the Ordos Oceanicus? \n2 PM Sydney Time\, Sunday\, November 18\, 2018 \n10 PM US Eastern Time\, Saturday\, November 17\, 2018 \n9 PM US Central Time\, Saturday\, November 17\, 2018 \nhttps://www.worldtimebuddy.com/
URL:https://uo.com/event/oceania-call-to-arms/
CATEGORIES:EM Event
END:VEVENT
BEGIN:VEVENT
DTSTART;TZID=Asia/Tokyo:20181117T220000
DTEND;TZID=Asia/Tokyo:20181117T220000
DTSTAMP:20260421T073253
CREATED:20181027T050902Z
LAST-MODIFIED:20181027T050902Z
UID:18071-1542492000-1542492000@uo.com
SUMMARY:Asuka – The Council Meeting With The King
DESCRIPTION:The monthly governor’s meeting with King Blackthorn. Everyone is invited.
URL:https://uo.com/event/asuka-the-council-meeting-with-the-king-6/
CATEGORIES:EM Event
END:VEVENT
END:VCALENDAR