BEGIN:VCALENDAR
VERSION:2.0
PRODID:-//Ultima Online - ECPv5.16.4.1//NONSGML v1.0//EN
CALSCALE:GREGORIAN
METHOD:PUBLISH
X-WR-CALNAME:Ultima Online
X-ORIGINAL-URL:https://uo.com
X-WR-CALDESC:Events for Ultima Online
BEGIN:VTIMEZONE
TZID:Asia/Tokyo
BEGIN:STANDARD
TZOFFSETFROM:+0900
TZOFFSETTO:+0900
TZNAME:JST
DTSTART:20180101T000000
END:STANDARD
END:VTIMEZONE
BEGIN:VEVENT
DTSTART;TZID=Asia/Tokyo:20181206T220000
DTEND;TZID=Asia/Tokyo:20181206T230000
DTSTAMP:20260421T053234
CREATED:20181129T145642Z
LAST-MODIFIED:20181129T145642Z
UID:18444-1544133600-1544137200@uo.com
SUMMARY:Yamato - Sherry's Drill (mini event)
DESCRIPTION:Meet at WBB
URL:https://uo.com/event/yamato-sherrys-drill-mini-event/
LOCATION:WBB
CATEGORIES:EM Event
END:VEVENT
END:VCALENDAR