BEGIN:VCALENDAR
VERSION:2.0
PRODID:-//Ultima Online - ECPv5.16.4.1//NONSGML v1.0//EN
CALSCALE:GREGORIAN
METHOD:PUBLISH
X-WR-CALNAME:Ultima Online
X-ORIGINAL-URL:https://uo.com
X-WR-CALDESC:Events for Ultima Online
BEGIN:VTIMEZONE
TZID:America/New_York
BEGIN:DAYLIGHT
TZOFFSETFROM:-0500
TZOFFSETTO:-0400
TZNAME:EDT
DTSTART:20180311T070000
END:DAYLIGHT
BEGIN:STANDARD
TZOFFSETFROM:-0400
TZOFFSETTO:-0500
TZNAME:EST
DTSTART:20181104T060000
END:STANDARD
END:VTIMEZONE
BEGIN:VEVENT
DTSTART;TZID=America/New_York:20181213T200000
DTEND;TZID=America/New_York:20181213T210000
DTSTAMP:20260421T055509
CREATED:20181209T212020Z
LAST-MODIFIED:20181209T212020Z
UID:18554-1544731200-1544734800@uo.com
SUMMARY:Catskills - Come One\, Come All To Meet Your New Event Moderator!
DESCRIPTION:All are invited to come and meet your new Event Moderator! A moongate will be provided from Luna as well!
URL:https://uo.com/event/catskills-come-one-come-all-to-meet-your-new-event-moderator/
LOCATION:Catskills Assembly Hall
CATEGORIES:EM Event
END:VEVENT
BEGIN:VEVENT
DTSTART;TZID=America/New_York:20181213T210000
DTEND;TZID=America/New_York:20181213T220000
DTSTAMP:20260421T055509
CREATED:20181129T224541Z
LAST-MODIFIED:20181129T224541Z
UID:18455-1544734800-1544738400@uo.com
SUMMARY:Atlantic - Snowball Fight
DESCRIPTION:Be prepared to have the fight of your life.  Bring snow and pie as this will be your only way to defend yourself.  I will be providing some if you do not have any – Meet at Castle Blackthorn
URL:https://uo.com/event/atlantic-snowball-fight/
LOCATION:Blackthorn’s Castle Courtyard
CATEGORIES:EM Event
END:VEVENT
END:VCALENDAR