BEGIN:VCALENDAR
VERSION:2.0
PRODID:-//Ultima Online - ECPv5.16.4.1//NONSGML v1.0//EN
CALSCALE:GREGORIAN
METHOD:PUBLISH
X-WR-CALNAME:Ultima Online
X-ORIGINAL-URL:https://uo.com
X-WR-CALDESC:Events for Ultima Online
BEGIN:VTIMEZONE
TZID:America/Los_Angeles
BEGIN:DAYLIGHT
TZOFFSETFROM:-0800
TZOFFSETTO:-0700
TZNAME:PDT
DTSTART:20180311T100000
END:DAYLIGHT
BEGIN:STANDARD
TZOFFSETFROM:-0700
TZOFFSETTO:-0800
TZNAME:PST
DTSTART:20181104T090000
END:STANDARD
TZID:Europe/Berlin
BEGIN:DAYLIGHT
TZOFFSETFROM:+0100
TZOFFSETTO:+0200
TZNAME:CEST
DTSTART:20180325T010000
END:DAYLIGHT
BEGIN:STANDARD
TZOFFSETFROM:+0200
TZOFFSETTO:+0100
TZNAME:CET
DTSTART:20181028T010000
END:STANDARD
TZID:America/New_York
BEGIN:DAYLIGHT
TZOFFSETFROM:-0500
TZOFFSETTO:-0400
TZNAME:EDT
DTSTART:20180311T070000
END:DAYLIGHT
BEGIN:STANDARD
TZOFFSETFROM:-0400
TZOFFSETTO:-0500
TZNAME:EST
DTSTART:20181104T060000
END:STANDARD
END:VTIMEZONE
BEGIN:VEVENT
DTSTART;TZID=America/Los_Angeles:20181216T180000
DTEND;TZID=America/Los_Angeles:20181216T183000
DTSTAMP:20260421T055510
CREATED:20181208T000724Z
LAST-MODIFIED:20181208T000724Z
UID:18533-1544983200-1544985000@uo.com
SUMMARY:Origin ~ The King’s Meeting
DESCRIPTION:
URL:https://uo.com/event/origin-the-kings-meeting-15/
LOCATION:Blackthorn Castle meeting room
CATEGORIES:EM Event
END:VEVENT
BEGIN:VEVENT
DTSTART;TZID=America/Los_Angeles:20181216T183000
DTEND;TZID=America/Los_Angeles:20181216T193000
DTSTAMP:20260421T055510
CREATED:20181208T001021Z
LAST-MODIFIED:20181208T001021Z
UID:18535-1544985000-1544988600@uo.com
SUMMARY:Origin Royal Guard ~ Fall Graduation
DESCRIPTION:
URL:https://uo.com/event/origin-royal-guard-fall-graduation-3/
LOCATION:Blackthorn Castle meeting room
CATEGORIES:EM Event
END:VEVENT
BEGIN:VEVENT
DTSTART;TZID=Europe/Berlin:20181216T203000
DTEND;TZID=Europe/Berlin:20181216T213000
DTSTAMP:20260421T055510
CREATED:20181127T090352Z
LAST-MODIFIED:20181127T090433Z
UID:18430-1544992200-1544995800@uo.com
SUMMARY:Drachenfels: Snowflake | Schneeflocke
DESCRIPTION:Time: 8:30pm CET (UTC+1).  Location: EM Hall\, Britain\, Trammel.\nMain Event: The harmless sounding name of “snowflake” has spread fear and terror in Sosaria. Get ready for a harmless\, yet somehow hard evening… Kalya Sesha will accompany you! \nZeit: 20:30 Uhr CET (UTC+1). Ort: EM Hall\, Britain\, Trammel.\nHaupt Event: Der harmlos klingende Name von “Schneeflocke” hat in Sosaria Angst und Schrecken verbreitet. Macht euch auf einen harmlosen\, aber dennoch irgendwie harten Abend bereit… Kalya Sesha wird euch begleiten!
URL:https://uo.com/event/drachenfels-snowflake-schneeflocke/
LOCATION:Drachenfels
CATEGORIES:EM Event
END:VEVENT
BEGIN:VEVENT
DTSTART;TZID=America/New_York:20181216T220000
DTEND;TZID=America/New_York:20181216T230000
DTSTAMP:20260421T055510
CREATED:20181215T092645Z
LAST-MODIFIED:20181215T092645Z
UID:18602-1544997600-1545001200@uo.com
SUMMARY:Sonoma - Governors Meeting
DESCRIPTION:Governors Meeting will be held at 7PM PST
URL:https://uo.com/event/sonoma-governors-meeting-16/
LOCATION:Sonoma
CATEGORIES:EM Event
END:VEVENT
END:VCALENDAR