BEGIN:VCALENDAR
VERSION:2.0
PRODID:-//Ultima Online - ECPv5.16.4.1//NONSGML v1.0//EN
CALSCALE:GREGORIAN
METHOD:PUBLISH
X-WR-CALNAME:Ultima Online
X-ORIGINAL-URL:https://uo.com
X-WR-CALDESC:Events for Ultima Online
BEGIN:VTIMEZONE
TZID:America/New_York
BEGIN:DAYLIGHT
TZOFFSETFROM:-0500
TZOFFSETTO:-0400
TZNAME:EDT
DTSTART:20190310T070000
END:DAYLIGHT
BEGIN:STANDARD
TZOFFSETFROM:-0400
TZOFFSETTO:-0500
TZNAME:EST
DTSTART:20191103T060000
END:STANDARD
END:VTIMEZONE
BEGIN:VEVENT
DTSTART;TZID=America/New_York:20190102T210000
DTEND;TZID=America/New_York:20190102T220000
DTSTAMP:20260419T091608
CREATED:20181229T183010Z
LAST-MODIFIED:20181229T183010Z
UID:18628-1546462800-1546466400@uo.com
SUMMARY:Chesapeake - Dark Matter
DESCRIPTION:Angelique continues to need your assistance. Based on your findings from the recent Oracle event\, you will report to the guard station to report further on your findings\, what you believe to be going on and investigate the matter further. \nGates at WBB and Luna will be provided.
URL:https://uo.com/event/chesapeake-dark-matter/
CATEGORIES:EM Event
END:VEVENT
END:VCALENDAR