BEGIN:VCALENDAR
VERSION:2.0
PRODID:-//Ultima Online - ECPv5.16.4.1//NONSGML v1.0//EN
CALSCALE:GREGORIAN
METHOD:PUBLISH
X-WR-CALNAME:Ultima Online
X-ORIGINAL-URL:https://uo.com
X-WR-CALDESC:Events for Ultima Online
BEGIN:VTIMEZONE
TZID:America/Los_Angeles
BEGIN:DAYLIGHT
TZOFFSETFROM:-0800
TZOFFSETTO:-0700
TZNAME:PDT
DTSTART:20190310T100000
END:DAYLIGHT
BEGIN:STANDARD
TZOFFSETFROM:-0700
TZOFFSETTO:-0800
TZNAME:PST
DTSTART:20191103T090000
END:STANDARD
TZID:Europe/Berlin
BEGIN:DAYLIGHT
TZOFFSETFROM:+0100
TZOFFSETTO:+0200
TZNAME:CEST
DTSTART:20190331T010000
END:DAYLIGHT
BEGIN:STANDARD
TZOFFSETFROM:+0200
TZOFFSETTO:+0100
TZNAME:CET
DTSTART:20191027T010000
END:STANDARD
TZID:Europe/London
BEGIN:DAYLIGHT
TZOFFSETFROM:+0000
TZOFFSETTO:+0100
TZNAME:BST
DTSTART:20190331T010000
END:DAYLIGHT
BEGIN:STANDARD
TZOFFSETFROM:+0100
TZOFFSETTO:+0000
TZNAME:GMT
DTSTART:20191027T010000
END:STANDARD
END:VTIMEZONE
BEGIN:VEVENT
DTSTART;TZID=America/Los_Angeles:20190120T180000
DTEND;TZID=America/Los_Angeles:20190120T183000
DTSTAMP:20260421T042633
CREATED:20190102T162316Z
LAST-MODIFIED:20190116T153459Z
UID:18673-1548007200-1548009000@uo.com
SUMMARY:Origin ~ The King’s Meeting
DESCRIPTION:
URL:https://uo.com/event/origin-the-kings-meeting-16/
LOCATION:Blackthorn Castle meeting room
CATEGORIES:EM Event
END:VEVENT
BEGIN:VEVENT
DTSTART;TZID=America/Los_Angeles:20190120T183000
DTEND;TZID=America/Los_Angeles:20190120T193000
DTSTAMP:20260421T042633
CREATED:20190102T162653Z
LAST-MODIFIED:20190116T153252Z
UID:18675-1548009000-1548012600@uo.com
SUMMARY:Origin ~ O.R.G. Boot Camp XXXI (Winter Session 1)
DESCRIPTION:
URL:https://uo.com/event/origin-o-r-g-boot-camp-xxxi-winter-session-1/
LOCATION:O.R.G. Training Grounds (Malas)
CATEGORIES:EM Event
END:VEVENT
BEGIN:VEVENT
DTSTART;TZID=America/Los_Angeles:20190120T190000
DTEND;TZID=America/Los_Angeles:20190120T200000
DTSTAMP:20260421T042633
CREATED:20190101T050036Z
LAST-MODIFIED:20190101T050036Z
UID:18645-1548010800-1548014400@uo.com
SUMMARY:*Pacific* - Kings Meeting
DESCRIPTION:
URL:https://uo.com/event/pacific-kings-meeting-26/
LOCATION:Castle Blackthorn Governors Hall
CATEGORIES:EM Event
END:VEVENT
BEGIN:VEVENT
DTSTART;TZID=Europe/Berlin:20190120T203000
DTEND;TZID=Europe/Berlin:20190120T213000
DTSTAMP:20260421T042633
CREATED:20181230T203150Z
LAST-MODIFIED:20181230T203150Z
UID:18636-1548016200-1548019800@uo.com
SUMMARY:Drachenfels: The cook | Der Koch
DESCRIPTION:Time: 8:30pm CET (UTC+1). Location: EM Hall\, Britain\, Trammel.\nMain Event: The cook was the most important man in the house. But now – he got lost. Help out to find him and why and where he went! \nZeit: 20:30 Uhr CET (UTC+1). Ort: EM Hall\, Britain\, Trammel.\nHaupt Event: Der Koch war die wichtigste Person im Haus. Aber nun – ist er verschollen. Helft herauszufinden\, warum und wohin es ihn verschlagen hat!
URL:https://uo.com/event/drachenfels-the-cook-der-koch/
LOCATION:Drachenfels
CATEGORIES:EM Event
END:VEVENT
BEGIN:VEVENT
DTSTART;TZID=Europe/London:20190120T203000
DTEND;TZID=Europe/London:20190120T213000
DTSTAMP:20260421T042633
CREATED:20190110T140646Z
LAST-MODIFIED:20190110T141022Z
UID:18745-1548016200-1548019800@uo.com
SUMMARY:Europa - New Creations
DESCRIPTION:Gather at EM Hall at 8.30 PM UK Time zone – PvM based event!
URL:https://uo.com/event/europa-new-creations/
CATEGORIES:EM Event
END:VEVENT
END:VCALENDAR