BEGIN:VCALENDAR
VERSION:2.0
PRODID:-//Ultima Online - ECPv5.16.4.1//NONSGML v1.0//EN
CALSCALE:GREGORIAN
METHOD:PUBLISH
X-WR-CALNAME:Ultima Online
X-ORIGINAL-URL:https://uo.com
X-WR-CALDESC:Events for Ultima Online
BEGIN:VTIMEZONE
TZID:America/Chicago
BEGIN:DAYLIGHT
TZOFFSETFROM:-0600
TZOFFSETTO:-0500
TZNAME:CDT
DTSTART:20190310T080000
END:DAYLIGHT
BEGIN:STANDARD
TZOFFSETFROM:-0500
TZOFFSETTO:-0600
TZNAME:CST
DTSTART:20191103T070000
END:STANDARD
TZID:Europe/London
BEGIN:DAYLIGHT
TZOFFSETFROM:+0000
TZOFFSETTO:+0100
TZNAME:BST
DTSTART:20190331T010000
END:DAYLIGHT
BEGIN:STANDARD
TZOFFSETFROM:+0100
TZOFFSETTO:+0000
TZNAME:GMT
DTSTART:20191027T010000
END:STANDARD
TZID:America/New_York
BEGIN:DAYLIGHT
TZOFFSETFROM:-0500
TZOFFSETTO:-0400
TZNAME:EDT
DTSTART:20190310T070000
END:DAYLIGHT
BEGIN:STANDARD
TZOFFSETFROM:-0400
TZOFFSETTO:-0500
TZNAME:EST
DTSTART:20191103T060000
END:STANDARD
END:VTIMEZONE
BEGIN:VEVENT
DTSTART;TZID=America/Chicago:20190122T200000
DTEND;TZID=America/Chicago:20190122T200000
DTSTAMP:20260421T041901
CREATED:20190104T041908Z
LAST-MODIFIED:20190104T041908Z
UID:18691-1548187200-1548187200@uo.com
SUMMARY:Great Lakes - Royal Britannian Guard
DESCRIPTION:This Royal Britannian Guard mission has the codename “Sandalwood”. To attend\, go through the moongate inside the Britain Counselor Hall.
URL:https://uo.com/event/great-lakes-royal-britannian-guard-53/
LOCATION:Great Lakes – Counselor Hall
CATEGORIES:EM Event
END:VEVENT
BEGIN:VEVENT
DTSTART;TZID=Europe/London:20190122T203000
DTEND;TZID=Europe/London:20190122T213000
DTSTAMP:20260421T041901
CREATED:20190110T140840Z
LAST-MODIFIED:20190115T082407Z
UID:18747-1548189000-1548192600@uo.com
SUMMARY:Europa - The Good Carpenter
DESCRIPTION:Gather at EM Hall at 8.30 PM UK Time zone – PvM based event
URL:https://uo.com/event/europa-the-good-carpenter/
CATEGORIES:EM Event
END:VEVENT
BEGIN:VEVENT
DTSTART;TZID=America/New_York:20190122T210000
DTEND;TZID=America/New_York:20190122T220000
DTSTAMP:20260421T041901
CREATED:20190109T014530Z
LAST-MODIFIED:20190109T015008Z
UID:18740-1548190800-1548194400@uo.com
SUMMARY:Atlantic - To The Source
DESCRIPTION:Hiwyn the Archmage requires your help to venture deep into Despise to search the derelict study of Mallus Luzar the Necromancer! \n*This event will take place in Felucca. Please take all necessary precautions.
URL:https://uo.com/event/atlantic-to-the-source/
LOCATION:Meet At Counselor Hall
CATEGORIES:EM Event
END:VEVENT
END:VCALENDAR