BEGIN:VCALENDAR
VERSION:2.0
PRODID:-//Ultima Online - ECPv5.16.4.1//NONSGML v1.0//EN
CALSCALE:GREGORIAN
METHOD:PUBLISH
X-WR-CALNAME:Ultima Online
X-ORIGINAL-URL:https://uo.com
X-WR-CALDESC:Events for Ultima Online
BEGIN:VTIMEZONE
TZID:America/Chicago
BEGIN:DAYLIGHT
TZOFFSETFROM:-0600
TZOFFSETTO:-0500
TZNAME:CDT
DTSTART:20190310T080000
END:DAYLIGHT
BEGIN:STANDARD
TZOFFSETFROM:-0500
TZOFFSETTO:-0600
TZNAME:CST
DTSTART:20191103T070000
END:STANDARD
TZID:America/Los_Angeles
BEGIN:DAYLIGHT
TZOFFSETFROM:-0800
TZOFFSETTO:-0700
TZNAME:PDT
DTSTART:20190310T100000
END:DAYLIGHT
BEGIN:STANDARD
TZOFFSETFROM:-0700
TZOFFSETTO:-0800
TZNAME:PST
DTSTART:20191103T090000
END:STANDARD
TZID:America/New_York
BEGIN:DAYLIGHT
TZOFFSETFROM:-0500
TZOFFSETTO:-0400
TZNAME:EDT
DTSTART:20190310T070000
END:DAYLIGHT
BEGIN:STANDARD
TZOFFSETFROM:-0400
TZOFFSETTO:-0500
TZNAME:EST
DTSTART:20191103T060000
END:STANDARD
END:VTIMEZONE
BEGIN:VEVENT
DTSTART;TZID=America/Chicago:20190123T190000
DTEND;TZID=America/Chicago:20190123T190000
DTSTAMP:20260421T045528
CREATED:20190104T042007Z
LAST-MODIFIED:20190104T042007Z
UID:18693-1548270000-1548270000@uo.com
SUMMARY:Great Lakes - Royal Council
DESCRIPTION:A meeting of the Royal Council. All are welcome to attend.
URL:https://uo.com/event/great-lakes-royal-council-37/
LOCATION:Great Lakes – Castle Blackthorn
CATEGORIES:EM Event
END:VEVENT
BEGIN:VEVENT
DTSTART;TZID=America/Los_Angeles:20190123T190000
DTEND;TZID=America/Los_Angeles:20190123T200000
DTSTAMP:20260421T045528
CREATED:20190117T012039Z
LAST-MODIFIED:20190117T012039Z
UID:18785-1548270000-1548273600@uo.com
SUMMARY:Baja - Governors Meeting
DESCRIPTION:King Blackthorn invites all to attend January’s Governor Meeting!
URL:https://uo.com/event/baja-governors-meeting-16/
LOCATION:King Blackthorn’s Castle
CATEGORIES:EM Event
END:VEVENT
BEGIN:VEVENT
DTSTART;TZID=America/Chicago:20190123T200000
DTEND;TZID=America/Chicago:20190123T210000
DTSTAMP:20260421T045528
CREATED:20190111T092509Z
LAST-MODIFIED:20190111T092509Z
UID:18758-1548273600-1548277200@uo.com
SUMMARY:LS - Behind the Mask (RBG)
DESCRIPTION:Meet Sir Travis in the courtyard of Castle Blackthorn in northern Britain for further orders.
URL:https://uo.com/event/ls-behind-the-mask-rbg/
LOCATION:Castle Blackthorn Courtyard
CATEGORIES:EM Event
END:VEVENT
BEGIN:VEVENT
DTSTART;TZID=America/New_York:20190123T210000
DTEND;TZID=America/New_York:20190123T220000
DTSTAMP:20260421T045528
CREATED:20181229T184413Z
LAST-MODIFIED:20181229T184413Z
UID:18632-1548277200-1548280800@uo.com
SUMMARY:Chesapeake - Pure Evil
DESCRIPTION:Angelique continues to need your help on this matter in Britannia of people getting sick and darkness that is following. What is going on? You’ve already come so far! It’s time to gather all the information you have and start to figure this out before it’s too late! \nGates at WBB and Luna will be provided for those that need it.
URL:https://uo.com/event/chesapeake-pure-evil/
CATEGORIES:EM Event
END:VEVENT
BEGIN:VEVENT
DTSTART;TZID=America/New_York:20190123T210000
DTEND;TZID=America/New_York:20190123T220000
DTSTAMP:20260421T045528
CREATED:20190106T210546Z
LAST-MODIFIED:20190106T210546Z
UID:18706-1548277200-1548280800@uo.com
SUMMARY:Atlantic Governor Meeting
DESCRIPTION:This is for the Governors and all the citizens of Britannia\, everyone is welcome to attend.
URL:https://uo.com/event/atlantic-governor-meeting/
CATEGORIES:EM Event
END:VEVENT
BEGIN:VEVENT
DTSTART;TZID=America/New_York:20190123T220000
DTEND;TZID=America/New_York:20190123T230000
DTSTAMP:20260421T045528
CREATED:20190117T124620Z
LAST-MODIFIED:20190120T231258Z
UID:18791-1548280800-1548284400@uo.com
SUMMARY:Sonoma - A lost Soul Part 1
DESCRIPTION:Join us on at 7PM PST for\, “A Lost Soul” event.
URL:https://uo.com/event/sonoma-a-lost-soul-part-1/
LOCATION:Sonoma
CATEGORIES:EM Event
END:VEVENT
END:VCALENDAR