BEGIN:VCALENDAR
VERSION:2.0
PRODID:-//Ultima Online - ECPv5.16.4.1//NONSGML v1.0//EN
CALSCALE:GREGORIAN
METHOD:PUBLISH
X-WR-CALNAME:Ultima Online
X-ORIGINAL-URL:https://uo.com
X-WR-CALDESC:Events for Ultima Online
BEGIN:VTIMEZONE
TZID:America/Los_Angeles
BEGIN:DAYLIGHT
TZOFFSETFROM:-0800
TZOFFSETTO:-0700
TZNAME:PDT
DTSTART:20190310T100000
END:DAYLIGHT
BEGIN:STANDARD
TZOFFSETFROM:-0700
TZOFFSETTO:-0800
TZNAME:PST
DTSTART:20191103T090000
END:STANDARD
TZID:America/Chicago
BEGIN:DAYLIGHT
TZOFFSETFROM:-0600
TZOFFSETTO:-0500
TZNAME:CDT
DTSTART:20190310T080000
END:DAYLIGHT
BEGIN:STANDARD
TZOFFSETFROM:-0500
TZOFFSETTO:-0600
TZNAME:CST
DTSTART:20191103T070000
END:STANDARD
TZID:UTC
BEGIN:STANDARD
TZOFFSETFROM:+0000
TZOFFSETTO:+0000
TZNAME:UTC
DTSTART:20190101T000000
END:STANDARD
TZID:America/New_York
BEGIN:DAYLIGHT
TZOFFSETFROM:-0500
TZOFFSETTO:-0400
TZNAME:EDT
DTSTART:20190310T070000
END:DAYLIGHT
BEGIN:STANDARD
TZOFFSETFROM:-0400
TZOFFSETTO:-0500
TZNAME:EST
DTSTART:20191103T060000
END:STANDARD
TZID:Asia/Taipei
BEGIN:STANDARD
TZOFFSETFROM:+0800
TZOFFSETTO:+0800
TZNAME:CST
DTSTART:20190101T000000
END:STANDARD
END:VTIMEZONE
BEGIN:VEVENT
DTSTART;TZID=America/Los_Angeles:20190330T190000
DTEND;TZID=America/Los_Angeles:20190330T200000
DTSTAMP:20260421T041859
CREATED:20190307T172750Z
LAST-MODIFIED:20190307T172750Z
UID:19297-1553972400-1553976000@uo.com
SUMMARY:*Pacific* - The Unspoken Truth
DESCRIPTION:*This month we will be going into Felucca. Be prepared!*
URL:https://uo.com/event/pacific-the-unspoken-truth/
LOCATION:Castle Blackthorn Courtyard
CATEGORIES:EM Event
END:VEVENT
BEGIN:VEVENT
DTSTART;TZID=America/Chicago:20190330T200000
DTEND;TZID=America/Chicago:20190330T200000
DTSTAMP:20260421T041859
CREATED:20190304T040225Z
LAST-MODIFIED:20190304T040225Z
UID:19269-1553976000-1553976000@uo.com
SUMMARY:Great Lakes – Royal Britannian Guard
DESCRIPTION:This Royal Britannian Guard mission has the codename “Tischlein Märchen “. To attend\, go through the moongate inside the Britain Counselor Hall.
URL:https://uo.com/event/great-lakes-royal-britannian-guard-57/
LOCATION:Great Lakes – Counselor Hall
CATEGORIES:EM Event
END:VEVENT
BEGIN:VEVENT
DTSTART;TZID=UTC:20190330T200000
DTEND;TZID=UTC:20190330T210000
DTSTAMP:20260421T041859
CREATED:20190310T161208Z
LAST-MODIFIED:20190310T161208Z
UID:19317-1553976000-1553979600@uo.com
SUMMARY:Oceania - Governors Meeting
DESCRIPTION:King Blackthorn invites all to attend the Governors Meeting!
URL:https://uo.com/event/oceania-governors-meeting/
LOCATION:King Blackthorn’s Castle
CATEGORIES:EM Event
END:VEVENT
BEGIN:VEVENT
DTSTART;TZID=America/New_York:20190330T210000
DTEND;TZID=America/New_York:20190330T220000
DTSTAMP:20260421T041859
CREATED:20190313T063359Z
LAST-MODIFIED:20190313T063634Z
UID:19337-1553979600-1553983200@uo.com
SUMMARY:LA - The Edge of Spring
DESCRIPTION:There will be blood. Bring your most trusted weapon.\nMeet at the EM Hall. EM Topaz will provide transportation from Luna and WBB.\nGame starts at 8PM Central/9PM Eastern
URL:https://uo.com/event/la-the-edge-of-spring/
CATEGORIES:EM Event
END:VEVENT
BEGIN:VEVENT
DTSTART;TZID=Asia/Taipei:20190330T210000
DTEND;TZID=Asia/Taipei:20190330T220000
DTSTAMP:20260421T041859
CREATED:20190325T122415Z
LAST-MODIFIED:20190325T122415Z
UID:19398-1553979600-1553983200@uo.com
SUMMARY:Formosa Iolo New Piece Of Music
DESCRIPTION:Meet at EM Britain Hall\, lolo story arc the music
URL:https://uo.com/event/formosa-iolo-new-piece-of-music/
LOCATION:Formosa Britain EM Hall
CATEGORIES:EM Event
END:VEVENT
END:VCALENDAR