BEGIN:VCALENDAR
VERSION:2.0
PRODID:-//Ultima Online - ECPv5.16.4.1//NONSGML v1.0//EN
CALSCALE:GREGORIAN
METHOD:PUBLISH
X-WR-CALNAME:Ultima Online
X-ORIGINAL-URL:https://uo.com
X-WR-CALDESC:Events for Ultima Online
BEGIN:VTIMEZONE
TZID:Asia/Taipei
BEGIN:STANDARD
TZOFFSETFROM:+0800
TZOFFSETTO:+0800
TZNAME:CST
DTSTART:20240101T000000
END:STANDARD
END:VTIMEZONE
BEGIN:VEVENT
DTSTART;TZID=Asia/Taipei:20240323T220000
DTEND;TZID=Asia/Taipei:20240323T230000
DTSTAMP:20260422T181635
CREATED:20240318T010050Z
LAST-MODIFIED:20240318T010050Z
UID:31473-1711231200-1711234800@uo.com
SUMMARY:Formosa Weekend Night Game Event
DESCRIPTION:Formosa Weekend Night Game Event 23th Saturday 10pm TW/23:00 JPN at Britain EM Hall
URL:https://uo.com/event/formosa-weekend-night-game-event/
LOCATION:Formosa Britain EM Hall
CATEGORIES:Competition,EM Event
END:VEVENT
END:VCALENDAR