BEGIN:VCALENDAR
VERSION:2.0
PRODID:-//Ultima Online - ECPv5.16.4.1//NONSGML v1.0//EN
CALSCALE:GREGORIAN
METHOD:PUBLISH
X-WR-CALNAME:Ultima Online
X-ORIGINAL-URL:https://uo.com
X-WR-CALDESC:Events for Ultima Online
BEGIN:VTIMEZONE
TZID:America/Los_Angeles
BEGIN:DAYLIGHT
TZOFFSETFROM:-0800
TZOFFSETTO:-0700
TZNAME:PDT
DTSTART:20240310T100000
END:DAYLIGHT
BEGIN:STANDARD
TZOFFSETFROM:-0700
TZOFFSETTO:-0800
TZNAME:PST
DTSTART:20241103T090000
END:STANDARD
TZID:Australia/Sydney
BEGIN:STANDARD
TZOFFSETFROM:+1100
TZOFFSETTO:+1000
TZNAME:AEST
DTSTART:20240406T160000
END:STANDARD
BEGIN:DAYLIGHT
TZOFFSETFROM:+1000
TZOFFSETTO:+1100
TZNAME:AEDT
DTSTART:20241005T160000
END:DAYLIGHT
END:VTIMEZONE
BEGIN:VEVENT
DTSTART;TZID=America/Los_Angeles:20240420T190000
DTEND;TZID=America/Los_Angeles:20240420T190000
DTSTAMP:20260422T162126
CREATED:20240402T175000Z
LAST-MODIFIED:20240402T180739Z
UID:31542-1713639600-1713639600@uo.com
SUMMARY:Baja- The Great Baja Bake Off!
DESCRIPTION:Are you the best baker in Baja? Prove it!!   Come out and get your baking on! This is a partner event!
URL:https://uo.com/event/baja-the-great-baja-bake-off-2/
CATEGORIES:Competition,EM Event
END:VEVENT
BEGIN:VEVENT
DTSTART;TZID=Australia/Sydney:20240420T200000
DTEND;TZID=Australia/Sydney:20240420T210000
DTSTAMP:20260422T162126
CREATED:20240417T000721Z
LAST-MODIFIED:20240417T000721Z
UID:31703-1713643200-1713646800@uo.com
SUMMARY:Oceania - Heart of Ice
DESCRIPTION:Competition event where teams race against each other to see who has the heart of Ice. \nStarts 8PM Sydney time.
URL:https://uo.com/event/oceania-heart-of-ice/
LOCATION:Oceania Em hall
CATEGORIES:Competition,EM Event
END:VEVENT
END:VCALENDAR