BEGIN:VCALENDAR
VERSION:2.0
PRODID:-//Ultima Online - ECPv5.16.4.1//NONSGML v1.0//EN
CALSCALE:GREGORIAN
METHOD:PUBLISH
X-WR-CALNAME:Ultima Online
X-ORIGINAL-URL:https://uo.com
X-WR-CALDESC:Events for Ultima Online
BEGIN:VTIMEZONE
TZID:Asia/Taipei
BEGIN:STANDARD
TZOFFSETFROM:+0800
TZOFFSETTO:+0800
TZNAME:CST
DTSTART:20240101T000000
END:STANDARD
END:VTIMEZONE
BEGIN:VEVENT
DTSTART;TZID=Asia/Taipei:20240629T220000
DTEND;TZID=Asia/Taipei:20240629T230000
DTSTAMP:20260422T130649
CREATED:20240624T224554Z
LAST-MODIFIED:20240624T224554Z
UID:32082-1719698400-1719702000@uo.com
SUMMARY:Formosa Void Pool Game
DESCRIPTION:Formosa Void Pool Game on 29th June Saturday at 10pm TW/23:00 JPN at Britain EM Hall
URL:https://uo.com/event/formosa-void-pool-game/
LOCATION:Formosa Britain EM Hall
CATEGORIES:Competition,EM Event
END:VEVENT
END:VCALENDAR