BEGIN:VCALENDAR
VERSION:2.0
PRODID:-//Ultima Online - ECPv5.16.4.1//NONSGML v1.0//EN
CALSCALE:GREGORIAN
METHOD:PUBLISH
X-WR-CALNAME:Ultima Online
X-ORIGINAL-URL:https://uo.com
X-WR-CALDESC:Events for Ultima Online
BEGIN:VTIMEZONE
TZID:Asia/Seoul
BEGIN:STANDARD
TZOFFSETFROM:+0900
TZOFFSETTO:+0900
TZNAME:KST
DTSTART:20240101T000000
END:STANDARD
END:VTIMEZONE
BEGIN:VEVENT
DTSTART;TZID=Asia/Seoul:20240823T220000
DTEND;TZID=Asia/Seoul:20240823T220000
DTSTAMP:20260422T094349
CREATED:20240718T141640Z
LAST-MODIFIED:20240718T141640Z
UID:32222-1724450400-1724450400@uo.com
SUMMARY:Balhae - Seasonal | Bull's Eye Tournament
DESCRIPTION:Friday\, August 23rd\, 10PM KST (GMT+9) \nMeeting Place: Trammel\, Britain EM Hall \nDo you believe yourself skilled enough to make a bull’s eye? Join the tournament and seek how good you are at throwing knives! There are plenty of mongbats waiting for your challenge!
URL:https://uo.com/event/balhae-seasonal-bulls-eye-tournament/
LOCATION:Balhae EM Britain Hall
CATEGORIES:Competition,EM Event
END:VEVENT
END:VCALENDAR